BEGIN:VCALENDAR
VERSION:2.0
PRODID:-// - ECPv6.15.20//NONSGML v1.0//EN
CALSCALE:GREGORIAN
METHOD:PUBLISH
X-ORIGINAL-URL:https://funhomeschoolflorida.com
X-WR-CALDESC:Events for 
REFRESH-INTERVAL;VALUE=DURATION:PT1H
X-Robots-Tag:noindex
X-PUBLISHED-TTL:PT1H
BEGIN:VTIMEZONE
TZID:America/New_York
BEGIN:DAYLIGHT
TZOFFSETFROM:-0500
TZOFFSETTO:-0400
TZNAME:EDT
DTSTART:20250309T070000
END:DAYLIGHT
BEGIN:STANDARD
TZOFFSETFROM:-0400
TZOFFSETTO:-0500
TZNAME:EST
DTSTART:20251102T060000
END:STANDARD
BEGIN:DAYLIGHT
TZOFFSETFROM:-0500
TZOFFSETTO:-0400
TZNAME:EDT
DTSTART:20260308T070000
END:DAYLIGHT
BEGIN:STANDARD
TZOFFSETFROM:-0400
TZOFFSETTO:-0500
TZNAME:EST
DTSTART:20261101T060000
END:STANDARD
BEGIN:DAYLIGHT
TZOFFSETFROM:-0500
TZOFFSETTO:-0400
TZNAME:EDT
DTSTART:20270314T070000
END:DAYLIGHT
BEGIN:STANDARD
TZOFFSETFROM:-0400
TZOFFSETTO:-0500
TZNAME:EST
DTSTART:20271107T060000
END:STANDARD
END:VTIMEZONE
BEGIN:VEVENT
DTSTART;TZID=America/New_York:20260314T080000
DTEND;TZID=America/New_York:20260314T110000
DTSTAMP:20260419T102435
CREATED:20260107T103651Z
LAST-MODIFIED:20260415T032441Z
UID:10000118-1773475200-1773486000@funhomeschoolflorida.com
SUMMARY:BEACH CLEAN UP
DESCRIPTION:Let’s come together to keep our South Florida beaches clean! \nJoin us on the second Saturday of each month for Fort Lauderdale Beach Sweep. \nWe meet at 300 S. Lauderdale Beach Blvd. Ft. Lauderdale from 8 am to 11 am. \nFree Parking For Volunteers! \nPlease RSVP through link below to be notified of any updates.
URL:https://funhomeschoolflorida.com/event/beach-clean-up/2026-03-14/
LOCATION:300 South Fort Lauderdale Beach BoulevardFort Lauderdale\, FL\, 33304\, 300 N Fort Lauderdale Beach Blvd\, Fort Lauderdale\, FL\, United States
CATEGORIES:Broward County
ATTACH;FMTTYPE=image/png:https://funhomeschoolflorida.com/wp-content/uploads/2026/01/Screenshot2023-03-04at6.23.34PM.png
ORGANIZER;CN="Mallory Strock":MAILTO:community@healtheplanet.comB
GEO:26.127334;-80.103375
X-APPLE-STRUCTURED-LOCATION;VALUE=URI;X-ADDRESS=300 South Fort Lauderdale Beach BoulevardFort Lauderdale FL 33304 300 N Fort Lauderdale Beach Blvd Fort Lauderdale FL United States;X-APPLE-RADIUS=500;X-TITLE=300 N Fort Lauderdale Beach Blvd:geo:-80.103375,26.127334
END:VEVENT
BEGIN:VEVENT
DTSTART;TZID=America/New_York:20260314T110000
DTEND;TZID=America/New_York:20260314T130000
DTSTAMP:20260419T102435
CREATED:20260113T195230Z
LAST-MODIFIED:20260221T232324Z
UID:10001000-1773486000-1773493200@funhomeschoolflorida.com
SUMMARY:Acton Children's Business Fair Coral Springs
DESCRIPTION:What is the Acton Children’s Business Fair? \nThe Acton Children’s Business Fair inspires children to discover their inner entrepreneur. The largest entrepreneurship event for children in North America\, this one-day market gives children the opportunity to showcase their very own businesses. \nHow many businesses will you accept? \nWe will accept up to 50 businesses. \nHow do I apply? Can I apply as part of a group? \nThe application must be submitted online. Please submit one application for each business. Children working as a group should submit one application that includes each child’s information—no more than 3 participants per business. \nIs there a cost to enter the fair? \nYes\, the cost is $25 per business to cover the table/chairs\, DJ\, and tent rental. \nWhat if someone else has the same business idea? \nTwo cupcake businesses? Not a problem. In general\, we will let market forces play out\, though we will let later entrants know if another applicant has a similar idea so they can decide what to do. \nHow will the fair be set up? \nThe fair will be a tented outdoor event. Each business will be given a 6-foot table\, full-cover tenting\, and two chairs. Tablecloths will not be provided. \nWill electricity be available? \nUnfortunately\, we are not able to provide electricity to the booths. \nWhat are the rules of the fair? \nChildren ages 5 to 16 may enter. This event is designed to give children the experience of selling a product or service. \nParents of younger children may sit in the booth\, but the children should be responsible for set up\, customer interaction\, and sales. \nParents may help their child fill out the application\, but we expect the children to do as much as possible on their own. \nAny parent observed making sales\, communicating with the customers\, or helping their child in any way will immediately disqualify their child from the competition. \n  \nPlease sign up through the website\, link below. \n$25 per business to cover the table/chairs\, DJ\, and tent rental.
URL:https://funhomeschoolflorida.com/event/acton-childrens-business-fair-coral-springs/
LOCATION:Acton Academy North Broward\, 1901 Coral Ridge Dr Suite 200\, Coral Springs\, 33071\, United States
CATEGORIES:Broward County
ATTACH;FMTTYPE=image/jpeg:https://funhomeschoolflorida.com/wp-content/uploads/2026/01/fair_default_1-8e6553d31aab3f4eb917fe0b5a1687fd6647513bb279dd460e2e3c8b88dc9064.jpg
END:VEVENT
BEGIN:VEVENT
DTSTART;TZID=America/New_York:20260314T150000
DTEND;TZID=America/New_York:20260314T200000
DTSTAMP:20260419T102435
CREATED:20260117T033532Z
LAST-MODIFIED:20260417T151629Z
UID:10001053-1773500400-1773518400@funhomeschoolflorida.com
SUMMARY:FREE Flamingo Gardens Wellness Fair
DESCRIPTION:Saturday March 14\, 2026 \n3:00 PM – 8:00 PM \nFREE Flamingo Gardens Wellness Fair \nWellness Starts in Nature \nA Day of Relaxation\, Health & Movement for the Whole Family \nJoin us for a vibrant and diverse Wellness Fair celebrating health\, nature\, and community connection. Whether you’re looking to unwind\, move your body\, or explore natural products and holistic services\, there’s something for everyone. \nExplore Our Wellness Marketplace \nFeaturing a curated selection of vendors offering: \nVegan food and natural products \nBohemian clothing and handmade jewelry \nSpiritual crafts and artisanal goods \nCandles\, incense\, and essential oils \nHolistic services: chiropractic care\, acupuncture\, and more \nFitness and wellness booths: local gyms and natural supplements \nWellness Class Schedule: \nReconnect with your mind\, body\, and spirit through: \nYoga \nMat Pilates \nEnerg-E Family Dance \nForest Bathing \nAromatherapy \nFamily Yoga \nSound Healing \nGuided Meditation (during a Tram ride through the Gardens) \nSome classes may include a small participation fee. \nDiscover\, move\, breathe\, and connect at the Wellness Fair—a celebration of health\, harmony\, and community. \nLocation: FG Learning Center and Outdoor Classroom (Indoor & Outdoor Spaces) \nAdmission: Free and open to the public
URL:https://funhomeschoolflorida.com/event/free-flamingo-gardens-wellness-fair/
LOCATION:Flamingo Gardens\, 3750 S Flamingo Rd\, Davie\, FL\, 33330\, United States
CATEGORIES:Broward County
ATTACH;FMTTYPE=image/jpeg:https://funhomeschoolflorida.com/wp-content/uploads/2026/01/wellness.jpg
END:VEVENT
END:VCALENDAR