BEGIN:VCALENDAR
VERSION:2.0
PRODID:-// - ECPv6.15.20//NONSGML v1.0//EN
CALSCALE:GREGORIAN
METHOD:PUBLISH
X-ORIGINAL-URL:https://funhomeschoolflorida.com
X-WR-CALDESC:Events for 
REFRESH-INTERVAL;VALUE=DURATION:PT1H
X-Robots-Tag:noindex
X-PUBLISHED-TTL:PT1H
BEGIN:VTIMEZONE
TZID:America/New_York
BEGIN:DAYLIGHT
TZOFFSETFROM:-0500
TZOFFSETTO:-0400
TZNAME:EDT
DTSTART:20250309T070000
END:DAYLIGHT
BEGIN:STANDARD
TZOFFSETFROM:-0400
TZOFFSETTO:-0500
TZNAME:EST
DTSTART:20251102T060000
END:STANDARD
BEGIN:DAYLIGHT
TZOFFSETFROM:-0500
TZOFFSETTO:-0400
TZNAME:EDT
DTSTART:20260308T070000
END:DAYLIGHT
BEGIN:STANDARD
TZOFFSETFROM:-0400
TZOFFSETTO:-0500
TZNAME:EST
DTSTART:20261101T060000
END:STANDARD
BEGIN:DAYLIGHT
TZOFFSETFROM:-0500
TZOFFSETTO:-0400
TZNAME:EDT
DTSTART:20270314T070000
END:DAYLIGHT
BEGIN:STANDARD
TZOFFSETFROM:-0400
TZOFFSETTO:-0500
TZNAME:EST
DTSTART:20271107T060000
END:STANDARD
END:VTIMEZONE
BEGIN:VEVENT
DTSTART;TZID=America/New_York:20260303T100000
DTEND;TZID=America/New_York:20260303T120000
DTSTAMP:20260419T102426
CREATED:20260113T015005Z
LAST-MODIFIED:20260415T032716Z
UID:10000964-1772532000-1772539200@funhomeschoolflorida.com
SUMMARY:Project Rock: Homeschoolers
DESCRIPTION:Home Schoolers: \nCome c\,limb with a guide. During this 2 hour period of time you will be provided with all of the gear and instruction to get to the top of the routes and progress on a path of learning new skills both physically and mentally. On a 1 to 5 guide to climber ratio\, guides will take the kids through the art of climbing routes up to 60 feet tall. The cost for this class is $25 if using the projectROCK team to belay\, or $13 if parent belays for their child. \n**Parents\, want to learn to belay? Sign up with James for a lesson\, for $13 during Homeschool Tuesday \nNo pre-registration required. Pay in person @ Project Rock. \nClasses every 1st & 3rd Tuesday \nDates for homeschool classes: \nJanuary 6th and 20th \nFebruary 3rd and 17th \nMarch 3rd and 17th \nApril 7th and 21st \nMay 5th and 19th
URL:https://funhomeschoolflorida.com/event/project-rock-homeschoolers/2026-03-03/
LOCATION:Project Rock\, 3580 N Andrews Ave\, Oakland Park\, FL\, 33309\, United States
CATEGORIES:Broward County
ATTACH;FMTTYPE=image/png:https://funhomeschoolflorida.com/wp-content/uploads/2026/01/projectrock-logo.png
END:VEVENT
BEGIN:VEVENT
DTSTART;TZID=America/New_York:20260303T133000
DTEND;TZID=America/New_York:20260303T143000
DTSTAMP:20260419T102426
CREATED:20260112T184708Z
LAST-MODIFIED:20260415T032716Z
UID:10000874-1772544600-1772548200@funhomeschoolflorida.com
SUMMARY:SoFlo Ninja Academy - Home School Ninja class
DESCRIPTION:Home School Ninja \n(Ages 5-12) \nOur Home School Ninja class is specifically crafted for young enthusiasts aged 5 to 12\, providing a unique opportunity for home-schooled children to dive into the world of Soflo Ninja. This daytime class is not just about tackling obstacles; it’s a comprehensive physical education program designed to enhance endurance\, stability\, agility\, and more. Through a combination of structured ninja training and free play\, children learn to navigate challenging courses\, boosting their physical fitness and problem-solving skills. The environment is supportive and motivational\, making it ideal for building confidence and social skills among peers with similar interests. Join us to give your child a fun\, dynamic way to stay active and learn invaluable life skills that go beyond physical fitness. \n*Exceptions may be made for siblings. Please inquire. \n$35.00 \nPlease sign up on their website\, the link is below.
URL:https://funhomeschoolflorida.com/event/soflo-ninja-academy-home-school-ninja-class/2026-03-03/
LOCATION:SoFlo Ninja Academy\, 1751 W Copans Rd Suite 1 & 2\, Pompano Beach\, FL\, 33064\, United States
CATEGORIES:Broward County
ATTACH;FMTTYPE=image/webp:https://funhomeschoolflorida.com/wp-content/uploads/2026/01/SOFLO_Logo.webp
END:VEVENT
BEGIN:VEVENT
DTSTART;TZID=America/New_York:20260303T140000
DTEND;TZID=America/New_York:20260303T150000
DTSTAMP:20260419T102426
CREATED:20260112T181514Z
LAST-MODIFIED:20260415T032716Z
UID:10000231-1772546400-1772550000@funhomeschoolflorida.com
SUMMARY:Mission Parkour - Homeschool Parkour
DESCRIPTION:Homeschool Parkour class is a 30 min structured lesson by a certified coach followed by a 30 free time for the student to explore. The 1 hour class is taught and supervised so the student can learn the basic movements of Parkour. As they progress the student can take the fundamental movements and apply them to their individual needs and style gaining strength\, confidence and flexibility including their imagination. \n  \nHOMESCHOOL DROP-IN $20 \nThis homeschool class can only be taken one time. Membership required to continue. \nHOMESCHOOL $50 \nThe class includes 4 sessions for the month. Can be used one time per week. Makeup sessions must be done within the subscription month. \nHOMESCHOOL  $99 \nThe class includes 10 sessions per the month. Can be used twice per week. Makeup sessions must be done within the subscription month \n  \nClasses offered: \nMonday & Tuesday @ 2pm \nWednesday @ 1pm & 2pm \nThese classes repeat weekly unless otherwise noted. Please sign up on website\, link is below
URL:https://funhomeschoolflorida.com/event/mission-parkour-homeschool-parkour/2026-03-03/
LOCATION:Mission Parkour\, 4039 NE 10 Ave Oakland Park\, FL 33334\, Oakland Park\, FL\, 33334\, United States
CATEGORIES:Broward County
ATTACH;FMTTYPE=image/jpeg:https://funhomeschoolflorida.com/wp-content/uploads/2026/01/original.jpeg
END:VEVENT
BEGIN:VEVENT
DTSTART;TZID=America/New_York:20260303T153000
DTEND;TZID=America/New_York:20260303T163000
DTSTAMP:20260419T102426
CREATED:20260216T095535Z
LAST-MODIFIED:20260417T143424Z
UID:10002237-1772551800-1772555400@funhomeschoolflorida.com
SUMMARY:Eco Kids Club
DESCRIPTION:Tuesday\, March 03 \n3:30pm – 4:30pm \nCalling all junior conservationists! \n  \nEach month we will learn about an endangered animal that needs help being saved. Join us for hands-on activities and crafts and learn ways in which you can make better choices to help our environment. Recommended for children ages 5-8 years. Class size is limited\, pre-registration is strongly encouraged. \nPlease register through their website\, link below.
URL:https://funhomeschoolflorida.com/event/eco-kids-club/
LOCATION:Nova Southeastern University Alvin Sherman Library\, Research and Information Technology Center\, 3100 Ray Ferrero Junior Boulevard\, Fort Lauderdale\, FL\, 33314\, United States
CATEGORIES:Broward County
END:VEVENT
BEGIN:VEVENT
DTSTART;TZID=America/New_York:20260303T163000
DTEND;TZID=America/New_York:20260303T173000
DTSTAMP:20260419T102426
CREATED:20260216T100354Z
LAST-MODIFIED:20260417T143325Z
UID:10002238-1772555400-1772559000@funhomeschoolflorida.com
SUMMARY:*Online Event* Top Scholarship Picks to Apply Before Spring Break Ready for College: College Readiness Workshops
DESCRIPTION:Tuesday\, March 03 \n4:30pm – 5:30pm \nLearn the best scholarships to apply to before you start spring break! get help on scholarship and grant applications. \nWorkshops are presented in partnership with local experts\, The Scholarship Plug. Questions about this program can be directed to Libraries Community Engagement by email to communityengagement@broward.org. \nRegister on their website\, link below
URL:https://funhomeschoolflorida.com/event/online-event-top-scholarship-picks-to-apply-before-spring-break-ready-for-college-college-readiness-workshops/
LOCATION:Online – Broward County Library
CATEGORIES:Broward County
END:VEVENT
END:VCALENDAR