BEGIN:VCALENDAR
VERSION:2.0
PRODID:-// - ECPv6.15.20//NONSGML v1.0//EN
CALSCALE:GREGORIAN
METHOD:PUBLISH
X-ORIGINAL-URL:https://funhomeschoolflorida.com
X-WR-CALDESC:Events for 
REFRESH-INTERVAL;VALUE=DURATION:PT1H
X-Robots-Tag:noindex
X-PUBLISHED-TTL:PT1H
BEGIN:VTIMEZONE
TZID:America/New_York
BEGIN:DAYLIGHT
TZOFFSETFROM:-0500
TZOFFSETTO:-0400
TZNAME:EDT
DTSTART:20250309T070000
END:DAYLIGHT
BEGIN:STANDARD
TZOFFSETFROM:-0400
TZOFFSETTO:-0500
TZNAME:EST
DTSTART:20251102T060000
END:STANDARD
BEGIN:DAYLIGHT
TZOFFSETFROM:-0500
TZOFFSETTO:-0400
TZNAME:EDT
DTSTART:20260308T070000
END:DAYLIGHT
BEGIN:STANDARD
TZOFFSETFROM:-0400
TZOFFSETTO:-0500
TZNAME:EST
DTSTART:20261101T060000
END:STANDARD
BEGIN:DAYLIGHT
TZOFFSETFROM:-0500
TZOFFSETTO:-0400
TZNAME:EDT
DTSTART:20270314T070000
END:DAYLIGHT
BEGIN:STANDARD
TZOFFSETFROM:-0400
TZOFFSETTO:-0500
TZNAME:EST
DTSTART:20271107T060000
END:STANDARD
END:VTIMEZONE
BEGIN:VEVENT
DTSTART;TZID=America/New_York:20260227T150000
DTEND;TZID=America/New_York:20260227T170000
DTSTAMP:20260419T121020
CREATED:20260214T221851Z
LAST-MODIFIED:20260418T031942Z
UID:10002233-1772204400-1772211600@funhomeschoolflorida.com
SUMMARY:Pokemon Day @ Main Library
DESCRIPTION:Friday\, February 27 \n3:00pm – 5:00pm \n(For ages 5-14.) Celebrate Pokemon Day 2026 at the Main Library! \nGotta catch ’em all at the Main Library on Pokemon Day\, where trainers unite for battles\, trades\, and surprises! — while supplies last. \n  \nPlease RSVP — registration is requested. Thank you!
URL:https://funhomeschoolflorida.com/event/pokemon-day-main-library/
LOCATION:Main Library\, 100 South Andrews Avenue\, Fort Lauderdale\, FL\, 33301\, United States
CATEGORIES:Broward County
END:VEVENT
END:VCALENDAR