BEGIN:VCALENDAR
VERSION:2.0
PRODID:-// - ECPv6.15.20//NONSGML v1.0//EN
CALSCALE:GREGORIAN
METHOD:PUBLISH
X-ORIGINAL-URL:https://funhomeschoolflorida.com
X-WR-CALDESC:Events for 
REFRESH-INTERVAL;VALUE=DURATION:PT1H
X-Robots-Tag:noindex
X-PUBLISHED-TTL:PT1H
BEGIN:VTIMEZONE
TZID:America/New_York
BEGIN:DAYLIGHT
TZOFFSETFROM:-0500
TZOFFSETTO:-0400
TZNAME:EDT
DTSTART:20250309T070000
END:DAYLIGHT
BEGIN:STANDARD
TZOFFSETFROM:-0400
TZOFFSETTO:-0500
TZNAME:EST
DTSTART:20251102T060000
END:STANDARD
BEGIN:DAYLIGHT
TZOFFSETFROM:-0500
TZOFFSETTO:-0400
TZNAME:EDT
DTSTART:20260308T070000
END:DAYLIGHT
BEGIN:STANDARD
TZOFFSETFROM:-0400
TZOFFSETTO:-0500
TZNAME:EST
DTSTART:20261101T060000
END:STANDARD
BEGIN:DAYLIGHT
TZOFFSETFROM:-0500
TZOFFSETTO:-0400
TZNAME:EDT
DTSTART:20270314T070000
END:DAYLIGHT
BEGIN:STANDARD
TZOFFSETFROM:-0400
TZOFFSETTO:-0500
TZNAME:EST
DTSTART:20271107T060000
END:STANDARD
END:VTIMEZONE
BEGIN:VEVENT
DTSTART;TZID=America/New_York:20260207T100000
DTEND;TZID=America/New_York:20260207T163000
DTSTAMP:20260419T121023
CREATED:20260117T110149Z
LAST-MODIFIED:20260415T034840Z
UID:10001061-1770458400-1770481800@funhomeschoolflorida.com
SUMMARY:SoFlo Homeschool Expo 2026
DESCRIPTION:📚Join us at the SoFlo Homeschool Expo 2026! \nHomeschooling doesn’t have to be done alone! Come connect\, learn\, and be encouraged at a full day designed to support homeschool families—bringing together local ministries\, trusted resources\, inspiring speakers\, and practical training. \n  \n🗓 February 7\, 2026 | ⏰ 10:00 AM–4:30 PM \n📍 South Florida Bible College & Theological Seminary \n2200 SW 10th Street\, Deerfield Beach\, FL 33442 \n👉 Register at sofloexpo.com\, link is below
URL:https://funhomeschoolflorida.com/event/soflo-homeschool-expo-2026/
LOCATION:South Florida Bible College & Theological\, 2200 SW 10th Street\, DEERFIELD BEACH\, FL\, 33442\, United States
CATEGORIES:Broward County
ATTACH;FMTTYPE=image/jpeg:https://funhomeschoolflorida.com/wp-content/uploads/2026/01/FB_IMG_1768647268586.jpg
END:VEVENT
BEGIN:VEVENT
DTSTART;TZID=America/New_York:20260207T110000
DTEND;TZID=America/New_York:20260207T130000
DTSTAMP:20260419T121023
CREATED:20260118T171251Z
LAST-MODIFIED:20260417T035134Z
UID:10001141-1770462000-1770469200@funhomeschoolflorida.com
SUMMARY:Capy Valentine’s Family Cupcake Class
DESCRIPTION:$40.00 \nEvent Location PLANTATION SHOP \nFamily-friendly Cupcake Decorating Class. Come by yourself or with family or friends. Children between 5 and 12 must be accompanied by a participating adult (2 reservations required) \nchildren ages 5–12 must participate alongside an adult\, with both the child and the adult registering and purchasing a spot. Each participant will actively take part in the class and decorate their own set of 4 cupcakes—similar to purchasing individual tickets for a movie or another hands-on activity. (Each one will decorate a cupcake set. Each participant should register and pay for a spot. e.g. Adult +one child – 2 paid spots\, adult +2 children – 3 paid spots) \nEach ticket is for one participant\, therefore an adult and a child must purchase 1 ticket each. You will not be able to enter the workshop without a purchased ticket) \n*NO BABIES OR OBSERVERS ALLOWED* \nOne adult can help up to 2 children during the class. \nWhat does the workshop include? \nThe workshop includes all the tools\, materials\, and ingredients required to create and decorate 4 cupcakes. \nHow long does it take? \nThe workshop lasts approximately 2 hours. \nWho can enroll in this class? \nThis class is suitable for beginners with very little to no experience. \nThe minimum age requirement for the family classes is 5 years old. \nChildren between 5 and 12 must be accompanied by a participating adult (2 reservations required) \nIf you have a voucher please use it at checkout. \nREGISTER ONLINE AND RESERVE YOUR SEAT TODAY! Link below
URL:https://funhomeschoolflorida.com/event/capy-valentines-family-cupcake-class/
LOCATION:Mia Cake House- Plantation\, 1765 North University Drive\, Plantation\, United States
CATEGORIES:Broward County
ATTACH;FMTTYPE=image/webp:https://funhomeschoolflorida.com/wp-content/uploads/2026/01/vlentines-cupcakes-26.webp
ORGANIZER;CN="Mia Cake House- Plantation":MAILTO:info@miacakehouse.com
END:VEVENT
END:VCALENDAR