BEGIN:VCALENDAR
VERSION:2.0
PRODID:-// - ECPv6.15.20//NONSGML v1.0//EN
CALSCALE:GREGORIAN
METHOD:PUBLISH
X-ORIGINAL-URL:https://funhomeschoolflorida.com
X-WR-CALDESC:Events for 
REFRESH-INTERVAL;VALUE=DURATION:PT1H
X-Robots-Tag:noindex
X-PUBLISHED-TTL:PT1H
BEGIN:VTIMEZONE
TZID:America/New_York
BEGIN:DAYLIGHT
TZOFFSETFROM:-0500
TZOFFSETTO:-0400
TZNAME:EDT
DTSTART:20250309T070000
END:DAYLIGHT
BEGIN:STANDARD
TZOFFSETFROM:-0400
TZOFFSETTO:-0500
TZNAME:EST
DTSTART:20251102T060000
END:STANDARD
BEGIN:DAYLIGHT
TZOFFSETFROM:-0500
TZOFFSETTO:-0400
TZNAME:EDT
DTSTART:20260308T070000
END:DAYLIGHT
BEGIN:STANDARD
TZOFFSETFROM:-0400
TZOFFSETTO:-0500
TZNAME:EST
DTSTART:20261101T060000
END:STANDARD
BEGIN:DAYLIGHT
TZOFFSETFROM:-0500
TZOFFSETTO:-0400
TZNAME:EDT
DTSTART:20270314T070000
END:DAYLIGHT
BEGIN:STANDARD
TZOFFSETFROM:-0400
TZOFFSETTO:-0500
TZNAME:EST
DTSTART:20271107T060000
END:STANDARD
END:VTIMEZONE
BEGIN:VEVENT
DTSTART;TZID=America/New_York:20260203T100000
DTEND;TZID=America/New_York:20260203T120000
DTSTAMP:20260419T121020
CREATED:20260113T015005Z
LAST-MODIFIED:20260415T032716Z
UID:10000962-1770112800-1770120000@funhomeschoolflorida.com
SUMMARY:Project Rock: Homeschoolers
DESCRIPTION:Home Schoolers: \nCome c\,limb with a guide. During this 2 hour period of time you will be provided with all of the gear and instruction to get to the top of the routes and progress on a path of learning new skills both physically and mentally. On a 1 to 5 guide to climber ratio\, guides will take the kids through the art of climbing routes up to 60 feet tall. The cost for this class is $25 if using the projectROCK team to belay\, or $13 if parent belays for their child. \n**Parents\, want to learn to belay? Sign up with James for a lesson\, for $13 during Homeschool Tuesday \nNo pre-registration required. Pay in person @ Project Rock. \nClasses every 1st & 3rd Tuesday \nDates for homeschool classes: \nJanuary 6th and 20th \nFebruary 3rd and 17th \nMarch 3rd and 17th \nApril 7th and 21st \nMay 5th and 19th
URL:https://funhomeschoolflorida.com/event/project-rock-homeschoolers/2026-02-03/
LOCATION:Project Rock\, 3580 N Andrews Ave\, Oakland Park\, FL\, 33309\, United States
CATEGORIES:Broward County
ATTACH;FMTTYPE=image/png:https://funhomeschoolflorida.com/wp-content/uploads/2026/01/projectrock-logo.png
END:VEVENT
BEGIN:VEVENT
DTSTART;TZID=America/New_York:20260203T103000
DTEND;TZID=America/New_York:20260203T130000
DTSTAMP:20260419T121020
CREATED:20260115T114629Z
LAST-MODIFIED:20260417T034540Z
UID:10001033-1770114600-1770123600@funhomeschoolflorida.com
SUMMARY:Culinary Casita Living Arts Class W/ Project Flourish
DESCRIPTION:For ages 7 – 14 yrs \n10:30am – 1:00pm \nJoin Team Flourish for a delicious deep dive into plant-forward eating and living! We’ll explore home economics and food literacy principles through a lens of fresh local ingredients\, food stories\, life skills and everyday cooking techniques\, while creating recipes that truly celebrate the season. \nProject Flourish Community is a direct billing participant with Step Up for Students. Payments can be allocated directly through your ESA. \n**Registration closes 2 days prior to class \nNotes \nFood labs feature Vegetarian friendly recipes \nWhat you’ll learn: \nTues. 1/20 – Spice Market \nTues. 2/3 – Cocoa Confections \nTues. 2/17 – Liberation’s Table\, Black History Culinary Showcase \nTues. 3/10 – Citrus Celebrations \nTues. 3/24 – Taste The Rainbow \nTues. 4/7 – Garden-To-Table Grazing \nTues. 4/21 – Edible Earth\, zero waste cooking \nTues. 5/5 – Blooms & Brew Tea Party \nTues. 5/ 19 – Farmers Market Finds \nPlease register and pay through their website. \nDrop-In $42/day [Self-Pay or Step Up Direct Bill] \nSibling Discounts: Second Child (10%)\, Third Child (10%)\, Any Additional Child (10%)
URL:https://funhomeschoolflorida.com/event/home-economics-culinary-casita-living-arts-class-w-project-flourish/2026-02-03/
LOCATION:Deerfield Beach Historical Society\, 84 SE 4th Ave\, Deerfield beach\, FL\, 33441\, United States
CATEGORIES:Broward County
ATTACH;FMTTYPE=image/webp:https://funhomeschoolflorida.com/wp-content/uploads/2026/01/FINALPFSchoolhouseheader.webp
ORGANIZER;CN="Project Flourish":MAILTO:alicia@projectflourishcommunity.com
END:VEVENT
BEGIN:VEVENT
DTSTART;TZID=America/New_York:20260203T130000
DTEND;TZID=America/New_York:20260203T143000
DTSTAMP:20260419T121020
CREATED:20260117T042453Z
LAST-MODIFIED:20260415T032715Z
UID:10001121-1770123600-1770129000@funhomeschoolflorida.com
SUMMARY:Kids Homeschool Art Club-ART PAPER SCISSORS ​PLANTATION
DESCRIPTION:ART PAPER SCISSORS PLANTATION \nKids Homeschool Art Club \nIn this 1 hour class for ages 5 to 10\, step into a world of creativity\, culture\, and color in our fun and engaging homeschool art classes! Our Art Around the World program takes students on a global journey\, exploring famous artists\, unique styles\, and cultural traditions from every corner of the map. Each class introduces a new country or region through a bite-sized lesson\, a featured artist or art style\, and a hands-on project that brings the learning to life. \nSeries appointment times: \nFebruary 3rd\, 2026 at 1:30 PM \nFebruary 10th\, 2026 at 1:30 PM \nFebruary 17th\, 2026 at 1:30 PM \nFebruary 24th\, 2026 at 1:30 PM \nPlease register and pay through their website\, link below.
URL:https://funhomeschoolflorida.com/event/kids-homeschool-art-club-art-paper-scissors-plantation/2026-02-03/
LOCATION:ART PAPER SCISSORS ​PLANTATION\, 821 N Nob Hill Road\, Plantation\, FL\, 33324\, United States
CATEGORIES:Broward County
ATTACH;FMTTYPE=image/jpeg:https://funhomeschoolflorida.com/wp-content/uploads/2026/01/appointmentType-thumb-50733713.jpg
END:VEVENT
BEGIN:VEVENT
DTSTART;TZID=America/New_York:20260203T133000
DTEND;TZID=America/New_York:20260203T143000
DTSTAMP:20260419T121020
CREATED:20260112T184708Z
LAST-MODIFIED:20260415T032716Z
UID:10000866-1770125400-1770129000@funhomeschoolflorida.com
SUMMARY:SoFlo Ninja Academy - Home School Ninja class
DESCRIPTION:Home School Ninja \n(Ages 5-12) \nOur Home School Ninja class is specifically crafted for young enthusiasts aged 5 to 12\, providing a unique opportunity for home-schooled children to dive into the world of Soflo Ninja. This daytime class is not just about tackling obstacles; it’s a comprehensive physical education program designed to enhance endurance\, stability\, agility\, and more. Through a combination of structured ninja training and free play\, children learn to navigate challenging courses\, boosting their physical fitness and problem-solving skills. The environment is supportive and motivational\, making it ideal for building confidence and social skills among peers with similar interests. Join us to give your child a fun\, dynamic way to stay active and learn invaluable life skills that go beyond physical fitness. \n*Exceptions may be made for siblings. Please inquire. \n$35.00 \nPlease sign up on their website\, the link is below.
URL:https://funhomeschoolflorida.com/event/soflo-ninja-academy-home-school-ninja-class/2026-02-03/
LOCATION:SoFlo Ninja Academy\, 1751 W Copans Rd Suite 1 & 2\, Pompano Beach\, FL\, 33064\, United States
CATEGORIES:Broward County
ATTACH;FMTTYPE=image/webp:https://funhomeschoolflorida.com/wp-content/uploads/2026/01/SOFLO_Logo.webp
END:VEVENT
BEGIN:VEVENT
DTSTART;TZID=America/New_York:20260203T140000
DTEND;TZID=America/New_York:20260203T150000
DTSTAMP:20260419T121020
CREATED:20260112T181514Z
LAST-MODIFIED:20260415T032716Z
UID:10000219-1770127200-1770130800@funhomeschoolflorida.com
SUMMARY:Mission Parkour - Homeschool Parkour
DESCRIPTION:Homeschool Parkour class is a 30 min structured lesson by a certified coach followed by a 30 free time for the student to explore. The 1 hour class is taught and supervised so the student can learn the basic movements of Parkour. As they progress the student can take the fundamental movements and apply them to their individual needs and style gaining strength\, confidence and flexibility including their imagination. \n  \nHOMESCHOOL DROP-IN $20 \nThis homeschool class can only be taken one time. Membership required to continue. \nHOMESCHOOL $50 \nThe class includes 4 sessions for the month. Can be used one time per week. Makeup sessions must be done within the subscription month. \nHOMESCHOOL  $99 \nThe class includes 10 sessions per the month. Can be used twice per week. Makeup sessions must be done within the subscription month \n  \nClasses offered: \nMonday & Tuesday @ 2pm \nWednesday @ 1pm & 2pm \nThese classes repeat weekly unless otherwise noted. Please sign up on website\, link is below
URL:https://funhomeschoolflorida.com/event/mission-parkour-homeschool-parkour/2026-02-03/
LOCATION:Mission Parkour\, 4039 NE 10 Ave Oakland Park\, FL 33334\, Oakland Park\, FL\, 33334\, United States
CATEGORIES:Broward County
ATTACH;FMTTYPE=image/jpeg:https://funhomeschoolflorida.com/wp-content/uploads/2026/01/original.jpeg
END:VEVENT
END:VCALENDAR