BEGIN:VCALENDAR
VERSION:2.0
PRODID:-// - ECPv6.15.20//NONSGML v1.0//EN
CALSCALE:GREGORIAN
METHOD:PUBLISH
X-ORIGINAL-URL:https://funhomeschoolflorida.com
X-WR-CALDESC:Events for 
REFRESH-INTERVAL;VALUE=DURATION:PT1H
X-Robots-Tag:noindex
X-PUBLISHED-TTL:PT1H
BEGIN:VTIMEZONE
TZID:America/New_York
BEGIN:DAYLIGHT
TZOFFSETFROM:-0500
TZOFFSETTO:-0400
TZNAME:EDT
DTSTART:20260308T070000
END:DAYLIGHT
BEGIN:STANDARD
TZOFFSETFROM:-0400
TZOFFSETTO:-0500
TZNAME:EST
DTSTART:20261101T060000
END:STANDARD
BEGIN:DAYLIGHT
TZOFFSETFROM:-0500
TZOFFSETTO:-0400
TZNAME:EDT
DTSTART:20270314T070000
END:DAYLIGHT
BEGIN:STANDARD
TZOFFSETFROM:-0400
TZOFFSETTO:-0500
TZNAME:EST
DTSTART:20271107T060000
END:STANDARD
BEGIN:DAYLIGHT
TZOFFSETFROM:-0500
TZOFFSETTO:-0400
TZNAME:EDT
DTSTART:20280312T070000
END:DAYLIGHT
BEGIN:STANDARD
TZOFFSETFROM:-0400
TZOFFSETTO:-0500
TZNAME:EST
DTSTART:20281105T060000
END:STANDARD
END:VTIMEZONE
BEGIN:VEVENT
DTSTART;TZID=America/New_York:20270222T090000
DTEND;TZID=America/New_York:20270222T140000
DTSTAMP:20260420T032054
CREATED:20260119T121308Z
LAST-MODIFIED:20260417T034540Z
UID:10001207-1803286800-1803304800@funhomeschoolflorida.com
SUMMARY:Selah Dance Classes for Homeschoolers [ Ballet\, Tap\, Modern\, Jazz\, Pointe*] Monday
DESCRIPTION:CLASSES FOR AGES 3-18 YEARS OLD \n*Additional class levels offered on their website* \nPrimary Ballet B: Ballet for ages 6 and older\, or according to ability. Monday 9:00 AM – 10:00 AM \nBallet I: Ballet for ages 8 and older\, or according to ability. Monday 10:00 AM to 11:00 AM \nBallet II: Ballet for ages 10 and older\, or according to ability. Monday 11:30 AM – 12:30 PM \nContemporary III: Contemporary for ages 12 and older\, or according to ability. Two ballet classes a week are required for dancers in this level. Evaluation required for this level. Monday 11:00 AM to 12:00 PM \nBallet III; Ballet for ages 12 and older\, or according to ability. Two ballet classes a week are required for dancers in this level. Evaluation required for this level. Monday 12:30 PM to 2:00 PM \nPointe III: Pointe for ages 12 and older\, or according to ability. Two ballet classes a week are required in addition to pointe. Evaluation required for this level. Monday 2:00 PM to 2:45 PM \n*Additional class days available* \n  \nSelah Academy is a dance school for homeschoolers directed by former homeschool and New World School of the Arts graduate\, Brittany Kernohan. Selah Academy hopes to build each student’s dance technique as well as character. We believe as strongly in the power of a great dance education as we do about creating beautiful\, loving and strong students. Selah teaches students the fundamentals of dance\, body alignment and terminology\, with focus on ballet and modern dance education. Classes harbor a fun and encouraging atmosphere to help build confidence\, learn teamwork\, grace and develop dance technique. We offer ballet\, modern\, jazz\, tap and pointe classes all during the day\, specifically gearing these classes to homeschooled students. \nSelah Academy is proud to include the AMERICAN BALLET THEATRE® National Training Curriculum\, a breakthrough 9-level program that combines high quality artistic training with the basics of dancer health and child development. The ABT® National Training Curriculum consists of a comprehensive set of age-appropriate\, outcome-based guidelines to provide the highest quality ballet training to dance students of all ages and skill levels. \nWe offer classes Monday-Friday. We are at our West Davie location Monday through Wednesday\, and our East Davie location on Thursday and Friday. \nSelah West 12900 W State Rd 84\, Davie FL \nSelah East 6878 Stirling Road\, Davie\, Fl 33024 \n** We rent space from existing studios in the mornings/afternoons. You can not drop by when we are not there for information regarding Selah classes.  ** \nPlease register and pay through their website\, the link is below.
URL:https://funhomeschoolflorida.com/event/selah-dance-classes-for-homeschoolers-ballet-tap-modern-jazz-pointe-2/2027-02-22/
LOCATION:Selah West\, 12900 W State Rd 84\, Davie\, FL\, United States
CATEGORIES:Broward County
ATTACH;FMTTYPE=image/jpeg:https://funhomeschoolflorida.com/wp-content/uploads/2026/01/Selah5.jpg
ORGANIZER;CN="Selah Dance Academy":MAILTO:ally@selahacademy.com
END:VEVENT
BEGIN:VEVENT
DTSTART;TZID=America/New_York:20270222T130000
DTEND;TZID=America/New_York:20270222T140000
DTSTAMP:20260420T032054
CREATED:20260117T114139Z
LAST-MODIFIED:20260415T032715Z
UID:10001120-1803301200-1803304800@funhomeschoolflorida.com
SUMMARY:Kids Homeschool Art Club-ART PAPER SCISSORS ​PARKLAND
DESCRIPTION:Homeschool Art Club – February\, Mondays 1pm with Art Paper Scissors \nIn this 1 hour class\, step into a world of creativity\, culture\, and color! Our Art Around the World program takes students on a global journey\, exploring famous artists\, unique styles\, and cultural traditions from every corner of the map. Each class introduces a new country or region through a bite-sized lesson\, a featured artist or art style\, and a hands-on project that brings the learning to life.Series appointment times \nFebruary 2nd\, 2026 at 1:00 PM \nFebruary 9th\, 2026 at 1:00 PM \nFebruary 23rd\, 2026 at 1:00 PM \n$60.00 \nPlease register and pay through their website\, link below.
URL:https://funhomeschoolflorida.com/event/kids-homeschool-art-club-art-paper-scissors-parkland/2027-02-22/
LOCATION:ART PAPER SCISSORS ​PARKLAND\, 6654 Parkside Drive\, Parkland\, 33067\, United States
CATEGORIES:Broward County
ATTACH;FMTTYPE=image/jpeg:https://funhomeschoolflorida.com/wp-content/uploads/2026/01/appointmentType-thumb-50733713.jpg
END:VEVENT
BEGIN:VEVENT
DTSTART;TZID=America/New_York:20270222T140000
DTEND;TZID=America/New_York:20270222T150000
DTSTAMP:20260420T032054
CREATED:20260112T181514Z
LAST-MODIFIED:20260415T032716Z
UID:10002167-1803304800-1803308400@funhomeschoolflorida.com
SUMMARY:Mission Parkour - Homeschool Parkour
DESCRIPTION:Homeschool Parkour class is a 30 min structured lesson by a certified coach followed by a 30 free time for the student to explore. The 1 hour class is taught and supervised so the student can learn the basic movements of Parkour. As they progress the student can take the fundamental movements and apply them to their individual needs and style gaining strength\, confidence and flexibility including their imagination. \n  \nHOMESCHOOL DROP-IN $20 \nThis homeschool class can only be taken one time. Membership required to continue. \nHOMESCHOOL $50 \nThe class includes 4 sessions for the month. Can be used one time per week. Makeup sessions must be done within the subscription month. \nHOMESCHOOL  $99 \nThe class includes 10 sessions per the month. Can be used twice per week. Makeup sessions must be done within the subscription month \n  \nClasses offered: \nMonday & Tuesday @ 2pm \nWednesday @ 1pm & 2pm \nThese classes repeat weekly unless otherwise noted. Please sign up on website\, link is below
URL:https://funhomeschoolflorida.com/event/mission-parkour-homeschool-parkour/2027-02-22/
LOCATION:Mission Parkour\, 4039 NE 10 Ave Oakland Park\, FL 33334\, Oakland Park\, FL\, 33334\, United States
CATEGORIES:Broward County
ATTACH;FMTTYPE=image/jpeg:https://funhomeschoolflorida.com/wp-content/uploads/2026/01/original.jpeg
END:VEVENT
END:VCALENDAR