BEGIN:VCALENDAR
VERSION:2.0
PRODID:-// - ECPv6.15.20//NONSGML v1.0//EN
CALSCALE:GREGORIAN
METHOD:PUBLISH
X-ORIGINAL-URL:https://funhomeschoolflorida.com
X-WR-CALDESC:Events for 
REFRESH-INTERVAL;VALUE=DURATION:PT1H
X-Robots-Tag:noindex
X-PUBLISHED-TTL:PT1H
BEGIN:VTIMEZONE
TZID:America/New_York
BEGIN:DAYLIGHT
TZOFFSETFROM:-0500
TZOFFSETTO:-0400
TZNAME:EDT
DTSTART:20250309T070000
END:DAYLIGHT
BEGIN:STANDARD
TZOFFSETFROM:-0400
TZOFFSETTO:-0500
TZNAME:EST
DTSTART:20251102T060000
END:STANDARD
BEGIN:DAYLIGHT
TZOFFSETFROM:-0500
TZOFFSETTO:-0400
TZNAME:EDT
DTSTART:20260308T070000
END:DAYLIGHT
BEGIN:STANDARD
TZOFFSETFROM:-0400
TZOFFSETTO:-0500
TZNAME:EST
DTSTART:20261101T060000
END:STANDARD
BEGIN:DAYLIGHT
TZOFFSETFROM:-0500
TZOFFSETTO:-0400
TZNAME:EDT
DTSTART:20270314T070000
END:DAYLIGHT
BEGIN:STANDARD
TZOFFSETFROM:-0400
TZOFFSETTO:-0500
TZNAME:EST
DTSTART:20271107T060000
END:STANDARD
END:VTIMEZONE
BEGIN:VEVENT
DTSTART;TZID=America/New_York:20260624T093000
DTEND;TZID=America/New_York:20260624T130000
DTSTAMP:20260419T120641
CREATED:20260302T033406Z
LAST-MODIFIED:20260418T033202Z
UID:10002853-1782293400-1782306000@funhomeschoolflorida.com
SUMMARY:[Tampa] Vocal Camp 2026: Broadway/Musical Theater – Ages 6-10
DESCRIPTION:Vocal Camp 2026 \nBroadway/Musical Theater – Ages 6-10 \nCome and be a part of our dynamic Broadway/Musical Theater Vocal Camp at Creative Keys Tampa! This camp is full of excitement\, combining Broadway hits and Disney songs to light a fire in your love for performing. \nStart each day with popular tunes to set the mood before delving into vocal techniques\, pitch recognition\, and solfege exercises. Students will participate in call and response songs\, interactive games\, and invigorating warm-ups to boost singing abilities and stage presence. \nPrepare to dive into the world of musical theater through engaging activities that will motivate and empower students as performers. \nChoose from two different sessions: \nSession I: Monday & Wednesday\, June 8 & 10\, 9:30-1:00 \nSession II: Monday & Wednesday\, June 22 & 24\, 9:30-1:00 \nTuition: $99 per session (covers 2 days\, 3.5 hours per day). \nSpace is limited to 12 students per session\, so enroll today to secure your spot!
URL:https://funhomeschoolflorida.com/event/vocal-camp-2026-broadway-musical-theater-ages-6-10/2026-06-24/
LOCATION:Creative Keys Tampa\, 11014 N Dale Mabry Hwy # 504\, Tampa\, FL\, 33618\, United States
CATEGORIES:Tampa Bay
ATTACH;FMTTYPE=image/jpeg:https://funhomeschoolflorida.com/wp-content/uploads/2026/03/webthumb-vocal-camp.jpg
ORGANIZER;CN="Creative Keys Tampa":MAILTO:info@CreativeKeystampa.com
END:VEVENT
BEGIN:VEVENT
DTSTART;TZID=America/New_York:20260624T100000
DTEND;TZID=America/New_York:20260624T120000
DTSTAMP:20260419T120641
CREATED:20260301T153318Z
LAST-MODIFIED:20260418T210725Z
UID:10002396-1782295200-1782302400@funhomeschoolflorida.com
SUMMARY:[Tampa] BOUNCE ZONE Homeschool Days
DESCRIPTION:Homeschool Day is every Wednesday from 10 AM – 12 PM\, created for homeschool kids to enjoy active play\, socialize\, and have a blast together! \nEach session is just $15.99 per child (ages 12 and under). \nCome bounce\, laugh\, and make new friends during these exclusive morning sessions — only at Bounce Zone Tampa! 💜
URL:https://funhomeschoolflorida.com/event/tampa-bounce-zone-homeschool-days/2026-06-24/
LOCATION:BOUNCE ZONE\, 5208 West Linebaugh Ave\, Tampa\, FL\, 33624\, United States
CATEGORIES:Tampa Bay
ATTACH;FMTTYPE=image/png:https://funhomeschoolflorida.com/wp-content/uploads/2026/03/ToddlerTime.png
END:VEVENT
BEGIN:VEVENT
DTSTART;TZID=America/New_York:20260624T130000
DTEND;TZID=America/New_York:20260624T134500
DTSTAMP:20260419T120641
CREATED:20260316T090728Z
LAST-MODIFIED:20260418T205904Z
UID:10003638-1782306000-1782308700@funhomeschoolflorida.com
SUMMARY:[TAMPA] TGH Ice Plex Skating Classes
DESCRIPTION:The TGH Ice Plex Skating School is a member of the Ice Sports Industry (ISI). We model our Skating School program from this nationally recognized recreational based skating program. Each class level teaches skills that continually build upon the skills that were achieved in the previous level. It is very important to learn the basic skills so that a skater has a strong foundation to keep progressing forward. A successful completion of each class level may take more than one 8-week session. Each class is 30 minutes of instructional lesson and 15 minutes of practice time. The ISI has membership opportunity which enables a beginning skater to compete in local and national competitions\, perform in recitals and holiday shows\, test for badges\, and receive a membership card and skating magazines. \nRegister through their website\, link below.
URL:https://funhomeschoolflorida.com/event/tampa-tgh-ice-plex-skating-classes/2026-06-24/
LOCATION:TGH Ice Plex\, 10222 Elizabeth place\, Tampa\, FL\, 33619\, United States
CATEGORIES:Tampa Bay
ATTACH;FMTTYPE=image/png:https://funhomeschoolflorida.com/wp-content/uploads/2026/03/learn-to-skate.png
END:VEVENT
BEGIN:VEVENT
DTSTART;TZID=America/New_York:20260624T140000
DTEND;TZID=America/New_York:20260624T150000
DTSTAMP:20260419T120641
CREATED:20260112T181514Z
LAST-MODIFIED:20260415T032716Z
UID:10002064-1782309600-1782313200@funhomeschoolflorida.com
SUMMARY:Mission Parkour - Homeschool Parkour
DESCRIPTION:Homeschool Parkour class is a 30 min structured lesson by a certified coach followed by a 30 free time for the student to explore. The 1 hour class is taught and supervised so the student can learn the basic movements of Parkour. As they progress the student can take the fundamental movements and apply them to their individual needs and style gaining strength\, confidence and flexibility including their imagination. \n  \nHOMESCHOOL DROP-IN $20 \nThis homeschool class can only be taken one time. Membership required to continue. \nHOMESCHOOL $50 \nThe class includes 4 sessions for the month. Can be used one time per week. Makeup sessions must be done within the subscription month. \nHOMESCHOOL  $99 \nThe class includes 10 sessions per the month. Can be used twice per week. Makeup sessions must be done within the subscription month \n  \nClasses offered: \nMonday & Tuesday @ 2pm \nWednesday @ 1pm & 2pm \nThese classes repeat weekly unless otherwise noted. Please sign up on website\, link is below
URL:https://funhomeschoolflorida.com/event/mission-parkour-homeschool-parkour/2026-06-24/
LOCATION:Mission Parkour\, 4039 NE 10 Ave Oakland Park\, FL 33334\, Oakland Park\, FL\, 33334\, United States
CATEGORIES:Broward County
ATTACH;FMTTYPE=image/jpeg:https://funhomeschoolflorida.com/wp-content/uploads/2026/01/original.jpeg
END:VEVENT
BEGIN:VEVENT
DTSTART;TZID=America/New_York:20260624T143000
DTEND;TZID=America/New_York:20260624T160000
DTSTAMP:20260419T120641
CREATED:20260309T064020Z
LAST-MODIFIED:20260418T033202Z
UID:10003372-1782311400-1782316800@funhomeschoolflorida.com
SUMMARY:[Largo] Homeschool Tumble Class
DESCRIPTION:Homeschool Tumble \nTuesdays 2:30-4:00 p.m. \nStarts April 22nd \nTOP DOG LAKEWOOD RANCH \n3135 Lakewood Ranch Blvd. Suite 110 Bradenton\, FL 34211 \n\n(941) 755-3547 \nHomeschool Tumble: 50 minutes of tumbling instruction which includes dynamic warm-up\, tumble shapes\, stations and skill building with a focus on correct form and technique. 40 minutes of open gym will conclude this class for a total of 1.5 hours of gym time. \nAges 5 and up. Cost is $75 per month with $5 sibling discounts. Registration is $50 per child. Families with more than 2 children will receive the homeschool family registration price of $75. This discount is given for families who attend the homeschool tumbling program. \nRegister through their website\, link below.
URL:https://funhomeschoolflorida.com/event/largo-homeschool-tumble-class/2026-06-24/
LOCATION:Top Dog Largo\, TOP DOG LARGO 1200 Starkey Road. Suite 210 Largo\, FL 33771\, Largo\, FL\, 33771\, United States
CATEGORIES:Tampa Bay
ATTACH;FMTTYPE=image/png:https://funhomeschoolflorida.com/wp-content/uploads/2026/03/1712763526.739bfb0503961c7cca7fe8dfc291b093dc855e74.png
END:VEVENT
END:VCALENDAR