BEGIN:VCALENDAR
VERSION:2.0
PRODID:-// - ECPv6.15.20//NONSGML v1.0//EN
CALSCALE:GREGORIAN
METHOD:PUBLISH
X-ORIGINAL-URL:https://funhomeschoolflorida.com
X-WR-CALDESC:Events for 
REFRESH-INTERVAL;VALUE=DURATION:PT1H
X-Robots-Tag:noindex
X-PUBLISHED-TTL:PT1H
BEGIN:VTIMEZONE
TZID:America/New_York
BEGIN:DAYLIGHT
TZOFFSETFROM:-0500
TZOFFSETTO:-0400
TZNAME:EDT
DTSTART:20250309T070000
END:DAYLIGHT
BEGIN:STANDARD
TZOFFSETFROM:-0400
TZOFFSETTO:-0500
TZNAME:EST
DTSTART:20251102T060000
END:STANDARD
BEGIN:DAYLIGHT
TZOFFSETFROM:-0500
TZOFFSETTO:-0400
TZNAME:EDT
DTSTART:20260308T070000
END:DAYLIGHT
BEGIN:STANDARD
TZOFFSETFROM:-0400
TZOFFSETTO:-0500
TZNAME:EST
DTSTART:20261101T060000
END:STANDARD
BEGIN:DAYLIGHT
TZOFFSETFROM:-0500
TZOFFSETTO:-0400
TZNAME:EDT
DTSTART:20270314T070000
END:DAYLIGHT
BEGIN:STANDARD
TZOFFSETFROM:-0400
TZOFFSETTO:-0500
TZNAME:EST
DTSTART:20271107T060000
END:STANDARD
END:VTIMEZONE
BEGIN:VEVENT
DTSTART;TZID=America/New_York:20260526T080000
DTEND;TZID=America/New_York:20260526T100000
DTSTAMP:20260419T102022
CREATED:20260315T214334Z
LAST-MODIFIED:20260417T152317Z
UID:10003602-1779782400-1779789600@funhomeschoolflorida.com
SUMMARY:[Thonotosassa] Weekly Blacksmithing Lessons
DESCRIPTION:Weekly Blacksmithing Lessons \nClasses are offered on weekdays in 2 hour time slots during the time frames below:[i.e. 10am-12pm\, 12pm-2pm] \nTuesday 8am-2pm \nWednesday 8am-8pm \nThursday 10am-12pm \nThis is a weekly\, ongoing Blacksmithing class led by Jordy the Knife Maker\, a professional Blacksmith based in Thonotosassa\, Florida. Classes are held every week at 12921 cox lane trl Thonotosassa Fl and focus on teaching students the fundamentals of blacksmithing— going beyond simply completing a project to developing the actual skills\, techniques\, and mindset essential to the craft. \nThe class is open to all ages and is a great fit for adults\, teens\, and homeschoolers looking for a hands-on\, skill-based experience. \nWhat’s Included \nFor $200/month\, students receive: \n    • Weekly instruction with a Master Blacksmith \n    • Full access to forge equipment and tools \n    • All basic materials for skill-building and practice \n    • Safety equipment provided \n    • A small-group setting for personal guidance and a growing community \nHow It Works \nFor the first several of sessions\, students focus on building a strong foundation: learning proper forging technique\, heat control\, safety\, and shop awareness. Once a student is confident and ready\, they’ll gain access to a project menu with beginner\, intermediate\, and advanced items. \nEach project comes with a separate materials cost. Students choose their project based on their current skill level and pay only for the materials needed to complete it. These projects are completed during regular Wednesday class time with continued guidance and feedback. This approach allows each student to progress at their own pace while still being challenged to grow. \nWhy This Class Is Different \nMore than just learning to make things\, students develop patience\, problem-solving\, and true confidence. This is a craft you can take with you\, continue at home\, and grow into for years to come. \nClasses are ongoing and space is limited. \nReach out to join or ask questions—we’d love to have you at the forge. \nRegister through their website\, link is below.
URL:https://funhomeschoolflorida.com/event/thonotosassa-weekly-blacksmithing-lessons/2026-05-26/
LOCATION:Jordyn Cox Knives\, 12921 Cox lane trl\, Thonotosassa\, FL\, 33592\, United States
CATEGORIES:Tampa Bay
ATTACH;FMTTYPE=image/png:https://funhomeschoolflorida.com/wp-content/uploads/2026/03/IMG_0391.png
END:VEVENT
BEGIN:VEVENT
DTSTART;TZID=America/New_York:20260526T100000
DTEND;TZID=America/New_York:20260526T120000
DTSTAMP:20260419T102022
CREATED:20260113T015005Z
LAST-MODIFIED:20260415T032716Z
UID:10000970-1779789600-1779796800@funhomeschoolflorida.com
SUMMARY:Project Rock: Homeschoolers
DESCRIPTION:Home Schoolers: \nCome c\,limb with a guide. During this 2 hour period of time you will be provided with all of the gear and instruction to get to the top of the routes and progress on a path of learning new skills both physically and mentally. On a 1 to 5 guide to climber ratio\, guides will take the kids through the art of climbing routes up to 60 feet tall. The cost for this class is $25 if using the projectROCK team to belay\, or $13 if parent belays for their child. \n**Parents\, want to learn to belay? Sign up with James for a lesson\, for $13 during Homeschool Tuesday \nNo pre-registration required. Pay in person @ Project Rock. \nClasses every 1st & 3rd Tuesday \nDates for homeschool classes: \nJanuary 6th and 20th \nFebruary 3rd and 17th \nMarch 3rd and 17th \nApril 7th and 21st \nMay 5th and 19th
URL:https://funhomeschoolflorida.com/event/project-rock-homeschoolers/2026-05-26/
LOCATION:Project Rock\, 3580 N Andrews Ave\, Oakland Park\, FL\, 33309\, United States
CATEGORIES:Broward County
ATTACH;FMTTYPE=image/png:https://funhomeschoolflorida.com/wp-content/uploads/2026/01/projectrock-logo.png
END:VEVENT
BEGIN:VEVENT
DTSTART;TZID=America/New_York:20260526T120000
DTEND;TZID=America/New_York:20260526T124500
DTSTAMP:20260419T102022
CREATED:20260228T025047Z
LAST-MODIFIED:20260415T032332Z
UID:10002307-1779796800-1779799500@funhomeschoolflorida.com
SUMMARY:[PLANT CITY] MUSIC WITH NONA
DESCRIPTION:Music with Nona Lisa Music Classes begin January 6\, 2026 and run until May 26\, 2026!!!! \nPreschool class- 11 am \nK/1st grade class- 12 pm-12:45 pm \n**Kindergarten/1st grade classes are once a week for 45 minutes. $20 per week\, payable by the month in advance. (March will have 5 weeks = $100) \nPre-school classes are 30 minutes due to child’s limited attention span. $15 per week\, payable by the month in advance. (March will have 5 weeks = $75) \nPre- school and K/1 music classes will involve the use of fun manipulatives\, such as finger puppets\, hand puppets\, felt boards\, scarves\, parachutes\, simple classroom instruments to teach steady beat/rhythm\, music focused books\, and circle games. \nCLASS LOCATION \nThe Red Calliope Art Gallery on Evers St. \n109 S. Evers St. Plant City\, FL 33563 \nIF you are using STEP UP funds (available for Kindergarten and 1st as well as preschool students with a diagnosis)\, register by contacting me with form below\, and then reserving funds with Step Up\, but if you are not\, you may simply send an email by contacting me below and specifying which class you are signing up for as well as the name and age of your child. \nPayment is per month and must be received prior to first class of month via Cashapp ($LisaSanchesWestcott) or cash. \nRegister for either or both classes at www.music-with-nona-lisa.com
URL:https://funhomeschoolflorida.com/event/plant-city-music-with-nona/2026-05-26/
LOCATION:The Red Calliope Art Gallery on Evers St.\, 109 S. Evers St.\, Plant City\, FL\, 33563\, United States
CATEGORIES:Tampa Bay
ATTACH;FMTTYPE=image/jpeg:https://funhomeschoolflorida.com/wp-content/uploads/2026/02/FB_IMG_1772246176898.jpg
END:VEVENT
BEGIN:VEVENT
DTSTART;TZID=America/New_York:20260526T130000
DTEND;TZID=America/New_York:20260526T134500
DTSTAMP:20260419T102022
CREATED:20260307T110522Z
LAST-MODIFIED:20260418T210925Z
UID:10003313-1779800400-1779803100@funhomeschoolflorida.com
SUMMARY:[LUTZ] Martial Arts for Homeschoolers: West Coast Karate
DESCRIPTION:West Coast Karate \nMartial Arts for Homeschoolers \nTuesdays & Thursdays 1:00pm- 1:45pm \nAre you a homeschool family looking for an activity during the day? We offer classes Tuesdays and Thursdays at 1pm. Our homeschool students have access to our entire program including evening classes\, camps\, and Parent’s Night Out. \nINTERESTED? COME TRY A FREE TRIAL CLASS. \nCOME SEE WHY WE ARE THE NUMBER ONE MARTIAL ARTS PROGRAM FOR HOMESCHOOLERS IN AREA! \n6 Weeks Intro for $125 \nRegister through their website\, link below.
URL:https://funhomeschoolflorida.com/event/lutz-martial-arts-for-homeschoolers-west-coast-karate/2026-05-26/
LOCATION:West Coast Karate\, 23604 State Road 54\, Lutz\, FL\, 33559\, United States
CATEGORIES:Tampa Bay
ATTACH;FMTTYPE=image/jpeg:https://funhomeschoolflorida.com/wp-content/uploads/2026/03/qtq_95-2.jpeg
ORGANIZER;CN="West Coast Karate":MAILTO:westcoastkaratedojo@gmail.com
END:VEVENT
BEGIN:VEVENT
DTSTART;TZID=America/New_York:20260526T130000
DTEND;TZID=America/New_York:20260526T140000
DTSTAMP:20260419T102022
CREATED:20260115T110928Z
LAST-MODIFIED:20260417T223355Z
UID:10001030-1779800400-1779804000@funhomeschoolflorida.com
SUMMARY:YEA Homeschool Class- Wonderful World of Wiggly Worms
DESCRIPTION:In this interactive science lesson\, students will become “Oligochaetologists” — scientists who study worms. They will explore the important role worms play as decomposers in the environment\, learn about symbiosis and different types of relationships between living things\, and discover how worms help us by recycling nutrients through composting. Students will engage in movement activities\, observation\, sorting games\, and discussion to deepen their understanding of ecology\, sustainability\, and the interconnectedness of life. \nMay 26\, 2026\, 1:00 PM – 2:00 PM @ North Lauderdale Saraniero Branch \nPlease register and pay through their website. \n$25 [Self-Pay or Step Up Direct Bill]
URL:https://funhomeschoolflorida.com/event/yea-homeschool-class-wonderful-world-of-wiggly-worms/
LOCATION:North Lauderdale Saraniero Branch\, 6901 Kimberly Boulevard\, North Lauderdale\, FL\, 33068\, United States
CATEGORIES:Broward County
ATTACH;FMTTYPE=image/png:https://funhomeschoolflorida.com/wp-content/uploads/2026/01/6c1267_01cf69063a9648028c01abf460db1b7emv2.png
END:VEVENT
BEGIN:VEVENT
DTSTART;TZID=America/New_York:20260526T130000
DTEND;TZID=America/New_York:20260526T140000
DTSTAMP:20260419T102022
CREATED:20260304T121302Z
LAST-MODIFIED:20260304T121714Z
UID:10003252-1779800400-1779804000@funhomeschoolflorida.com
SUMMARY:[PALM HARBOR] Homeschool Dance
DESCRIPTION:Homeschool Dance. Ages 7-13 \nTuesday 1-2 pm \n55/monthly \nThe Centre \nFocus on polishing technique in ballet\, tap\, and jazz. Each class is a stepping stone in your journey of personal growth and creativity. It’s not just about dancing; it’s a wonderful chance for homeschoolers to forge lasting friendships and share joyful experiences. \nAttire: Keep long hair neatly tied back. Wear leotards\, tutus\, tights\, or your favorite comfortable exercise clothes. Don’t forget your ballet and tap shoes and bring a closed lid water bottle to stay refreshed and inspires. \nPlease register through their website\, link below.
URL:https://funhomeschoolflorida.com/event/palm-harbor-homeschool-dance/2026-05-26/
LOCATION:The Centre @ Palm Harbor Parks & Recreation\, 1500 16th Street\, Palm Harbor\, FL\, 34683\, United States
CATEGORIES:Tampa Bay
END:VEVENT
BEGIN:VEVENT
DTSTART;TZID=America/New_York:20260526T133000
DTEND;TZID=America/New_York:20260526T143000
DTSTAMP:20260419T102022
CREATED:20260112T184708Z
LAST-MODIFIED:20260415T032716Z
UID:10000898-1779802200-1779805800@funhomeschoolflorida.com
SUMMARY:SoFlo Ninja Academy - Home School Ninja class
DESCRIPTION:Home School Ninja \n(Ages 5-12) \nOur Home School Ninja class is specifically crafted for young enthusiasts aged 5 to 12\, providing a unique opportunity for home-schooled children to dive into the world of Soflo Ninja. This daytime class is not just about tackling obstacles; it’s a comprehensive physical education program designed to enhance endurance\, stability\, agility\, and more. Through a combination of structured ninja training and free play\, children learn to navigate challenging courses\, boosting their physical fitness and problem-solving skills. The environment is supportive and motivational\, making it ideal for building confidence and social skills among peers with similar interests. Join us to give your child a fun\, dynamic way to stay active and learn invaluable life skills that go beyond physical fitness. \n*Exceptions may be made for siblings. Please inquire. \n$35.00 \nPlease sign up on their website\, the link is below.
URL:https://funhomeschoolflorida.com/event/soflo-ninja-academy-home-school-ninja-class/2026-05-26/
LOCATION:SoFlo Ninja Academy\, 1751 W Copans Rd Suite 1 & 2\, Pompano Beach\, FL\, 33064\, United States
CATEGORIES:Broward County
ATTACH;FMTTYPE=image/webp:https://funhomeschoolflorida.com/wp-content/uploads/2026/01/SOFLO_Logo.webp
END:VEVENT
BEGIN:VEVENT
DTSTART;TZID=America/New_York:20260526T140000
DTEND;TZID=America/New_York:20260526T144500
DTSTAMP:20260419T102022
CREATED:20260304T122820Z
LAST-MODIFIED:20260418T210926Z
UID:10003278-1779804000-1779806700@funhomeschoolflorida.com
SUMMARY:[PALM HARBOR] Homeschool Musical Theater & Jazz
DESCRIPTION:Homeschool Musical Theater & Jazz \nAges 7-13 yrs \nTuesday 2-2:45 pm \n45/monthly \nA mix of modern jazz and classic theater steps will get our young dancers prepared for the stage! Practice in free movement\, improvisation and choreography while learning musical theater history. Learn dances for the latest pop songs as well as famous choreography from classic theater. \nAttire: Keep long hair neatly tied back. Wear leotards\, tutus\, tights\, or your favorite comfortable exercise clothes. Don’t forget your ballet and tap shoes and bring a closed lid water bottle to stay refreshed and inspired.
URL:https://funhomeschoolflorida.com/event/palm-harbor-homeschool-musical-theater-jazz/2026-05-26/
LOCATION:The Centre @ Palm Harbor Parks & Recreation\, 1500 16th Street\, Palm Harbor\, FL\, 34683\, United States
CATEGORIES:Tampa Bay
END:VEVENT
BEGIN:VEVENT
DTSTART;TZID=America/New_York:20260526T140000
DTEND;TZID=America/New_York:20260526T150000
DTSTAMP:20260419T102022
CREATED:20260112T181514Z
LAST-MODIFIED:20260415T032716Z
UID:10000267-1779804000-1779807600@funhomeschoolflorida.com
SUMMARY:Mission Parkour - Homeschool Parkour
DESCRIPTION:Homeschool Parkour class is a 30 min structured lesson by a certified coach followed by a 30 free time for the student to explore. The 1 hour class is taught and supervised so the student can learn the basic movements of Parkour. As they progress the student can take the fundamental movements and apply them to their individual needs and style gaining strength\, confidence and flexibility including their imagination. \n  \nHOMESCHOOL DROP-IN $20 \nThis homeschool class can only be taken one time. Membership required to continue. \nHOMESCHOOL $50 \nThe class includes 4 sessions for the month. Can be used one time per week. Makeup sessions must be done within the subscription month. \nHOMESCHOOL  $99 \nThe class includes 10 sessions per the month. Can be used twice per week. Makeup sessions must be done within the subscription month \n  \nClasses offered: \nMonday & Tuesday @ 2pm \nWednesday @ 1pm & 2pm \nThese classes repeat weekly unless otherwise noted. Please sign up on website\, link is below
URL:https://funhomeschoolflorida.com/event/mission-parkour-homeschool-parkour/2026-05-26/
LOCATION:Mission Parkour\, 4039 NE 10 Ave Oakland Park\, FL 33334\, Oakland Park\, FL\, 33334\, United States
CATEGORIES:Broward County
ATTACH;FMTTYPE=image/jpeg:https://funhomeschoolflorida.com/wp-content/uploads/2026/01/original.jpeg
END:VEVENT
BEGIN:VEVENT
DTSTART;TZID=America/New_York:20260526T141500
DTEND;TZID=America/New_York:20260526T151500
DTSTAMP:20260419T102022
CREATED:20260311T034654Z
LAST-MODIFIED:20260417T143945Z
UID:10003484-1779804900-1779808500@funhomeschoolflorida.com
SUMMARY:[Wesley Chapel] Homeschool Level 1 (co-ed Gymnastics) Suncoast Gymnastics Wesley Chapel
DESCRIPTION:Suncoast Gymnastics Wesley Chapel \nHomeschool Level 1 (co-ed Gymnastics) \nTue|2:15 PM – 3:15 PM \nSuncoast Gymnastics Wesley Chapel \n2441 Old Cypress Creek Rd \nLand O Lakes\, FL 34639
URL:https://funhomeschoolflorida.com/event/wesley-chapel-homeschool-level-1-co-ed-gymnastics-suncoast-gymnastics-wesley-chapel/2026-05-26/
LOCATION:Suncoast Gymnastics Wesley Chapel\, 2441 Old Cypress Creek Rd\, Land O Lakes\, FL\, 34639\, United States
CATEGORIES:Tampa Bay
ATTACH;FMTTYPE=image/png:https://funhomeschoolflorida.com/wp-content/uploads/2026/03/1692635624.f00edf02b723b7b23483d6ca116ab8a31251d1d9-1.png
END:VEVENT
BEGIN:VEVENT
DTSTART;TZID=America/New_York:20260526T153000
DTEND;TZID=America/New_York:20260526T163000
DTSTAMP:20260419T102022
CREATED:20260312T113343Z
LAST-MODIFIED:20260417T144347Z
UID:10003569-1779809400-1779813000@funhomeschoolflorida.com
SUMMARY:[Zephyrhills] ALL BOYS CLASS!! East Pasco Gymnastics: Homeschool Gymnastics Classes
DESCRIPTION:East Pasco Gymnastics \n37150 Chancey Road Zephyrhills\, FL 33541 \nHomeschool Gymnastics Classes– Ages 3 and up. We offer an ALL BOYS class Tuesdays at 3:30pm. Classes before 4:30pm get a $20 discount per session. \nWe also have small and large meeting rooms available for use. If your homeschool group is interested\, please call 813-715-7400 or email us. \n 
URL:https://funhomeschoolflorida.com/event/zephyrhills-all-boys-class-east-pasco-gymnastics-homeschool-gymnastics-classes/2026-05-26/
LOCATION:East Pasco Gymnastics Inc.\, 37150 Chancey Road\, Zephyrhills\, FL\, 33541\, United States
CATEGORIES:Tampa Bay
ATTACH;FMTTYPE=image/png:https://funhomeschoolflorida.com/wp-content/uploads/2026/03/cropped-EPG-FB-Cover.png
END:VEVENT
END:VCALENDAR