BEGIN:VCALENDAR
VERSION:2.0
PRODID:-// - ECPv6.15.20//NONSGML v1.0//EN
CALSCALE:GREGORIAN
METHOD:PUBLISH
X-ORIGINAL-URL:https://funhomeschoolflorida.com
X-WR-CALDESC:Events for 
REFRESH-INTERVAL;VALUE=DURATION:PT1H
X-Robots-Tag:noindex
X-PUBLISHED-TTL:PT1H
BEGIN:VTIMEZONE
TZID:America/New_York
BEGIN:DAYLIGHT
TZOFFSETFROM:-0500
TZOFFSETTO:-0400
TZNAME:EDT
DTSTART:20250309T070000
END:DAYLIGHT
BEGIN:STANDARD
TZOFFSETFROM:-0400
TZOFFSETTO:-0500
TZNAME:EST
DTSTART:20251102T060000
END:STANDARD
BEGIN:DAYLIGHT
TZOFFSETFROM:-0500
TZOFFSETTO:-0400
TZNAME:EDT
DTSTART:20260308T070000
END:DAYLIGHT
BEGIN:STANDARD
TZOFFSETFROM:-0400
TZOFFSETTO:-0500
TZNAME:EST
DTSTART:20261101T060000
END:STANDARD
BEGIN:DAYLIGHT
TZOFFSETFROM:-0500
TZOFFSETTO:-0400
TZNAME:EDT
DTSTART:20270314T070000
END:DAYLIGHT
BEGIN:STANDARD
TZOFFSETFROM:-0400
TZOFFSETTO:-0500
TZNAME:EST
DTSTART:20271107T060000
END:STANDARD
END:VTIMEZONE
BEGIN:VEVENT
DTSTART;TZID=America/New_York:20260513T080000
DTEND;TZID=America/New_York:20260513T100000
DTSTAMP:20260419T102125
CREATED:20260315T214334Z
LAST-MODIFIED:20260417T152317Z
UID:10003599-1778659200-1778666400@funhomeschoolflorida.com
SUMMARY:[Thonotosassa] Weekly Blacksmithing Lessons
DESCRIPTION:Weekly Blacksmithing Lessons \nClasses are offered on weekdays in 2 hour time slots during the time frames below:[i.e. 10am-12pm\, 12pm-2pm] \nTuesday 8am-2pm \nWednesday 8am-8pm \nThursday 10am-12pm \nThis is a weekly\, ongoing Blacksmithing class led by Jordy the Knife Maker\, a professional Blacksmith based in Thonotosassa\, Florida. Classes are held every week at 12921 cox lane trl Thonotosassa Fl and focus on teaching students the fundamentals of blacksmithing— going beyond simply completing a project to developing the actual skills\, techniques\, and mindset essential to the craft. \nThe class is open to all ages and is a great fit for adults\, teens\, and homeschoolers looking for a hands-on\, skill-based experience. \nWhat’s Included \nFor $200/month\, students receive: \n    • Weekly instruction with a Master Blacksmith \n    • Full access to forge equipment and tools \n    • All basic materials for skill-building and practice \n    • Safety equipment provided \n    • A small-group setting for personal guidance and a growing community \nHow It Works \nFor the first several of sessions\, students focus on building a strong foundation: learning proper forging technique\, heat control\, safety\, and shop awareness. Once a student is confident and ready\, they’ll gain access to a project menu with beginner\, intermediate\, and advanced items. \nEach project comes with a separate materials cost. Students choose their project based on their current skill level and pay only for the materials needed to complete it. These projects are completed during regular Wednesday class time with continued guidance and feedback. This approach allows each student to progress at their own pace while still being challenged to grow. \nWhy This Class Is Different \nMore than just learning to make things\, students develop patience\, problem-solving\, and true confidence. This is a craft you can take with you\, continue at home\, and grow into for years to come. \nClasses are ongoing and space is limited. \nReach out to join or ask questions—we’d love to have you at the forge. \nRegister through their website\, link is below.
URL:https://funhomeschoolflorida.com/event/thonotosassa-weekly-blacksmithing-lessons/2026-05-13/
LOCATION:Jordyn Cox Knives\, 12921 Cox lane trl\, Thonotosassa\, FL\, 33592\, United States
CATEGORIES:Tampa Bay
ATTACH;FMTTYPE=image/png:https://funhomeschoolflorida.com/wp-content/uploads/2026/03/IMG_0391.png
END:VEVENT
BEGIN:VEVENT
DTSTART;TZID=America/New_York:20260513T093000
DTEND;TZID=America/New_York:20260513T145500
DTSTAMP:20260419T102125
CREATED:20260313T093059Z
LAST-MODIFIED:20260417T144346Z
UID:10003523-1778664600-1778684100@funhomeschoolflorida.com
SUMMARY:[Brandon] Homeschoolers with Heart Class @Dancing for a Difference
DESCRIPTION:Dancing for a Difference \nWednesdays @ 9:30am-2:55pm \nHomeschoolers with Heart \nInclusive Dance & Music Lessons In Brandon Florida that foster children’s social\, emotional\, and physical skills through dance\, music\, and friendships. \n1076 E Brandon Blvd #109 Brandon\, FL 33511 \nRegister through their website\, link below
URL:https://funhomeschoolflorida.com/event/brandon-homeschoolers-with-heart-class-dancing-for-a-difference/2026-05-13/
LOCATION:Dancing for a Difference\, 1076 E Brandon Blvd #109\, Brandon\, FL\, 33511\, United States
CATEGORIES:Tampa Bay
ATTACH;FMTTYPE=image/jpeg:https://funhomeschoolflorida.com/wp-content/uploads/2026/03/13911_IMG_0219.jpeg
ORGANIZER;CN="Dancing for a Difference":MAILTO:office@dancing4adifference.com
END:VEVENT
BEGIN:VEVENT
DTSTART;TZID=America/New_York:20260513T100000
DTEND;TZID=America/New_York:20260513T120000
DTSTAMP:20260419T102125
CREATED:20260301T153318Z
LAST-MODIFIED:20260418T210725Z
UID:10002390-1778666400-1778673600@funhomeschoolflorida.com
SUMMARY:[Tampa] BOUNCE ZONE Homeschool Days
DESCRIPTION:Homeschool Day is every Wednesday from 10 AM – 12 PM\, created for homeschool kids to enjoy active play\, socialize\, and have a blast together! \nEach session is just $15.99 per child (ages 12 and under). \nCome bounce\, laugh\, and make new friends during these exclusive morning sessions — only at Bounce Zone Tampa! 💜
URL:https://funhomeschoolflorida.com/event/tampa-bounce-zone-homeschool-days/2026-05-13/
LOCATION:BOUNCE ZONE\, 5208 West Linebaugh Ave\, Tampa\, FL\, 33624\, United States
CATEGORIES:Tampa Bay
ATTACH;FMTTYPE=image/png:https://funhomeschoolflorida.com/wp-content/uploads/2026/03/ToddlerTime.png
END:VEVENT
BEGIN:VEVENT
DTSTART;TZID=America/New_York:20260513T100000
DTEND;TZID=America/New_York:20260513T123000
DTSTAMP:20260419T102125
CREATED:20260115T101550Z
LAST-MODIFIED:20260415T034840Z
UID:10001018-1778666400-1778675400@funhomeschoolflorida.com
SUMMARY:YOUNG SEEDs IN THE PARK- Heal the Planet’s Sustainable Energy EDucation!
DESCRIPTION:  \nYoung SEEDs In The Park for homeschoolers is FREE for children ages 5 to 12 from 10:00 am – 12:30 pm the 2nd Wednesday of every month. \nSessions include gardening\, food demos\, yoga\, breathwork\, mindfulness exercises\, and more. \nSEED Program is a hands-on learning program designed to connect students with nature\, our planet\, and their place in it. The SEED Program takes a holistic approach\, addressing ecological awareness and sustainability\, including topics such as self-identity\, food systems\, biodiversity\, and systems thinking. \n  \nPlease register through their website\, link is below. \n 
URL:https://funhomeschoolflorida.com/event/young-seeds-in-the-park-heal-the-planets-sustainable-energy-education/2026-05-13/
LOCATION:SNYDER PARK\, 3299 Southwest 4th Avenue\, Fort Lauderdale\, FL\, 33315\, United States
CATEGORIES:Broward County
ATTACH;FMTTYPE=image/png:https://funhomeschoolflorida.com/wp-content/uploads/2026/01/HTPLogonobackgroundnopuntocom.png
GEO:26.15118;-80.140832
X-APPLE-STRUCTURED-LOCATION;VALUE=URI;X-ADDRESS=SNYDER PARK 3299 Southwest 4th Avenue Fort Lauderdale FL 33315 United States;X-APPLE-RADIUS=500;X-TITLE=3299 Southwest 4th Avenue:geo:-80.140832,26.15118
END:VEVENT
BEGIN:VEVENT
DTSTART;TZID=America/New_York:20260513T100000
DTEND;TZID=America/New_York:20260513T140000
DTSTAMP:20260419T102125
CREATED:20260228T104707Z
LAST-MODIFIED:20260228T105743Z
UID:10002313-1778666400-1778680800@funhomeschoolflorida.com
SUMMARY:[Lakeland] Aerospace Center for Excellence Field Trip @ Lakeland Linder Airport
DESCRIPTION:Time & Location \nMay 13\, 2026\, 10:00 AM – 2:00 PM \nLakeland\, 4075 James C. Ray Dr\, Lakeland\, FL 33811\, USA \n  \nAerospace Center for Excellence Field Trip @ Lakeland Linder Airport \nAerospace Center for Excellence Field Trip @ Lakeland Linder Airport \nWed\, May 13 | Lakeland \nFlight simulation in the Redbird Flight Simulation Lab\, Using rockets to understand mass\, force\, and distance\, and Exploring the Earth’s rotation with NOAA. Grades 3-6 are invited to sign up for a day at the Lakeland Linder Airport- Aerospace Center for Excellence \nAerospace Center for Excellence Field Trip @ Lakeland Linder Airport \nCalling all 3rd – 6th Grade learners that are interested in flight\, engineering or NOAA! \nBusy Bee Homeschool Hive has scheduled a field trip to the Lakeland Linder Airport’s ACE program. \nProgram Details \nDuring a field trip to the Aerospace Center for Excellence our highly trained STEM Educators will guide your students through an immersive\, hands-on experience that consists of: \nInteractive presentations \nLive demonstrations \nLab activities and immersive experiments (based on grade level) \nField trip programs run from 10:00 am to 1:30 pm in the Skylab Innovation Center and include the Science On a Sphere Lab\, the Engineering Lab\, and either the Flight Simulation Lab (Grades 5th-6th) or the Florida Air Museum (grades 3rd-4th) depending upon the age of your students. After your Field Trip program concludes\, free exploration of the Florida Air Museum is permitted until the museum closes at 4:00 pm. \nProgram 1- Moving Through Space \nLocation: NOAA Science on a Sphere \nGrades: 3rd-6th \nThe motion of the stars\, planets\, and moon have long engaged human interest. Explore Earth’s rotation and revolution in relation to the Sun and Moon. Discover how these movements impact Moon Phases. Students recreate the journey of Curiosity on Mars using Sphero Bolts as rovers. They will learn how NASA scientists collected and analyzed data from other celestial bodies. \nAligns with the following FL education standards: SC.3.E.5.2 SC.4.E.5.3 SC.4.E.5.4 SC.4.N.1.1 SC.4.N.1.3 SC.5.E.5.3 SC.5.N.1.1 SC.5.N.1.2 \nProgram 2- Rocketing to Space \nLocation: Engineering \nGrade Levels: 3rd -6th \nSending satellites and other vehicles into space using rockets is becoming a competitive business. Investigate the relationship between mass\, force and distance as applied to space travel by manipulating straw rockets. \nAligns with the following FL education standards: SC.4.P.10.2 SC.4.P.12.1 SC.5.P.10.2 SC.5.P.13.2 SC.5.P.13.3 SC.3.N.1.1 SC.4.N.1.1 SC.5.N.1.1 SC.5.N.1.3 \nProgram 3 (based on grade level)- \nThe 3rd-4th Graders’ Program– History and Future of Flight \nLocation- Florida Air Museum & Aviation Playground \nDiscover the thrilling world of aviation at the Florida Air Museum\, a captivating destination that celebrates the rich history and exciting future of flight. Enjoy the vast collection of aircraft\, exhibits\, and interactive displays\, offering an immersive experience for aviation enthusiasts of all ages. Featuring 24 interactive learning opportunities for aspiring aviators regarding the science and practice of flight\, this aviation themed playground has the layout of an airport\, complete with taxiways and runways. Also included is a sitting area for adults and large sun shades. \nAlign with FL education standards: SC.1-4.N.1.1 PE.K-5.M.1.1 PE.2-4.C.2.2 \nThe 5th-6th Grades’ Program — Flying Fundamentals \nLocation- Redbird Flight Simulation Lab \nNearly 300\,000 new pilots are needed worldwide over the next ten years. Through flight simulation\, understand how the physics (aerodynamics) of flight works to keep an airplane flying straight and level. \nAligns with FL education standards: SC. 5.P.13.1 SC.5.P.13.2 SC.6.P.13.1 SC.6.P.13.2 SC.7.N.1.5 SC.8.N.1.2 SC.912.P.12.3 SC.912.N.1.1 912.CTE Aerospace Tech \nImmediately Following we will continue the day at the Pavilion\, where students will participate in an Paper Airplane Competition. \nAlso included\, Pilot License\, Completion Certificate\, Goody Bag \nTickets — \nCost: $25 per student participant or 125 Bee Bucks \n  \n$10 per participating chaperone or 50 Bee Bucks \nThere are only 20 total tickets for students and 2 tickets for participating chaperones. \nPlease add a non-participating chaperone ticket to the order if not participating\, so we can account for each child’s parent or chaperone. \nYou are welcome to bring other guests or siblings and enjoy the Florida Air Museum. Tickets to this are sold separately at the Museum’s ticket office. \nRegister through their website\, link below.
URL:https://funhomeschoolflorida.com/event/lakeland-aerospace-center-for-excellence-field-trip-lakeland-linder-airport/
LOCATION:Florida Air Museum\, 4075 James C. Ray Dr\,\, Lakeland\, FL\, 33811\, United States
CATEGORIES:Tampa Bay
ATTACH;FMTTYPE=image/jpeg:https://funhomeschoolflorida.com/wp-content/uploads/2026/02/328c94_1321d4723de24fefae70de93f61c5066mv2.jpg
ORGANIZER;CN="Busy Bee Homeschool Hive":MAILTO:info@busybeehomeschoolhive.com
END:VEVENT
BEGIN:VEVENT
DTSTART;TZID=America/New_York:20260513T110000
DTEND;TZID=America/New_York:20260513T140000
DTSTAMP:20260419T102125
CREATED:20260313T153218Z
LAST-MODIFIED:20260418T205904Z
UID:10003537-1778670000-1778680800@funhomeschoolflorida.com
SUMMARY:[Ruskin] Jubilee Gymnastics: Homeschool Rec Gym 1 ** Multiple Sessions*
DESCRIPTION:Homeschool Rec Gym 1 \nWed|11:00 AM – 11:55 AM \nWed|11:30 AM – 12:25 PM \nWed|1:00 PM – 1:55 PM \nThu|12:00 PM – 12:55 PM \n(ages 6+) 55 min class \nOur Recreational Girls Program is designed for girls ages 6 & up and is made up of 3 levels. All classes are designed to improve the overall fitness level of the girls while mastering gymnastics skills. We also introduce putting skills together and if they want to take it further\, students can participate in our Annual Recreational Showcase in April/May. Our philosophy of gymnastics is to teach and encourage correct form and technique while keeping creativity and fun essential to learning! \n  \n353 30th St. NE Ruskin\, FL 33570
URL:https://funhomeschoolflorida.com/event/ruskin-jubilee-gymnastics-homeschool-rec-gym-1/2026-05-13/
LOCATION:Jubilee Gymnastics\, 353 30th St. NE\, Ruskin\, FL\, 33570\, United States
CATEGORIES:Tampa Bay
ATTACH;FMTTYPE=image/png:https://funhomeschoolflorida.com/wp-content/uploads/2026/03/1734190249.278cadb5c5a600fd354bbb4a32acf34407bf98f0.png
ORGANIZER;CN="Jubilee Gymnastics":MAILTO:info@jubileegym.com
END:VEVENT
BEGIN:VEVENT
DTSTART;TZID=America/New_York:20260513T114500
DTEND;TZID=America/New_York:20260513T124500
DTSTAMP:20260419T102125
CREATED:20260311T035652Z
LAST-MODIFIED:20260418T210925Z
UID:10003495-1778672700-1778676300@funhomeschoolflorida.com
SUMMARY:[Odessa] Homeschool Level 1 Co-Ed: Suncoast Gymnastics Academy
DESCRIPTION:Suncoast Gymnastics Academy \nHomeschool Level 1 Co-Ed \nSchedule: Wed|11:45 AM – 12:45 PM \nInstructors: Kathleen Bisbe & Sean Nummy \nProgram: Homeschool \nTuition: $107.00 \nSuncoast Gymnastics Academy \n11131 Cargo Ct. Odessa\, FL 33556
URL:https://funhomeschoolflorida.com/event/odessa-homeschool-level-1-co-ed-suncoast-gymnastics-academy/2026-05-13/
LOCATION:Suncoast Gymnastics Academy\, 11131 Cargo Ct.\, Odessa\, FL\, 33556\, United States
CATEGORIES:Tampa Bay
ATTACH;FMTTYPE=image/png:https://funhomeschoolflorida.com/wp-content/uploads/2026/03/1692635624.f00edf02b723b7b23483d6ca116ab8a31251d1d9-1.png
END:VEVENT
BEGIN:VEVENT
DTSTART;TZID=America/New_York:20260513T130000
DTEND;TZID=America/New_York:20260513T134500
DTSTAMP:20260419T102125
CREATED:20260316T090728Z
LAST-MODIFIED:20260418T205904Z
UID:10003632-1778677200-1778679900@funhomeschoolflorida.com
SUMMARY:[TAMPA] TGH Ice Plex Skating Classes
DESCRIPTION:The TGH Ice Plex Skating School is a member of the Ice Sports Industry (ISI). We model our Skating School program from this nationally recognized recreational based skating program. Each class level teaches skills that continually build upon the skills that were achieved in the previous level. It is very important to learn the basic skills so that a skater has a strong foundation to keep progressing forward. A successful completion of each class level may take more than one 8-week session. Each class is 30 minutes of instructional lesson and 15 minutes of practice time. The ISI has membership opportunity which enables a beginning skater to compete in local and national competitions\, perform in recitals and holiday shows\, test for badges\, and receive a membership card and skating magazines. \nRegister through their website\, link below.
URL:https://funhomeschoolflorida.com/event/tampa-tgh-ice-plex-skating-classes/2026-05-13/
LOCATION:TGH Ice Plex\, 10222 Elizabeth place\, Tampa\, FL\, 33619\, United States
CATEGORIES:Tampa Bay
ATTACH;FMTTYPE=image/png:https://funhomeschoolflorida.com/wp-content/uploads/2026/03/learn-to-skate.png
END:VEVENT
BEGIN:VEVENT
DTSTART;TZID=America/New_York:20260513T130000
DTEND;TZID=America/New_York:20260513T140000
DTSTAMP:20260419T102126
CREATED:20260112T182546Z
LAST-MODIFIED:20260415T032716Z
UID:10000696-1778677200-1778680800@funhomeschoolflorida.com
SUMMARY:Mission Parkour - Homeschool Parkour
DESCRIPTION:Homeschool Parkour class is a 30 min structured lesson by a certified coach followed by a 30 free time for the student to explore. The 1 hour class is taught and supervised so the student can learn the basic movements of Parkour. As they progress the student can take the fundamental movements and apply them to their individual needs and style gaining strength\, confidence and flexibility including their imagination. \n  \nHOMESCHOOL DROP-IN $20 \nThis homeschool class can only be taken one time. Membership required to continue. \nHOMESCHOOL $50 \nThe class includes 4 sessions for the month. Can be used one time per week. Makeup sessions must be done within the subscription month. \nHOMESCHOOL  $99 \nThe class includes 10 sessions per the month. Can be used twice per week. Makeup sessions must be done within the subscription month \n  \nClasses offered: \nMonday & Tuesday @ 2pm \nWednesday @ 1pm & 2pm \nThese classes repeat weekly unless otherwise noted. Please sign up on website\, link is below
URL:https://funhomeschoolflorida.com/event/mission-parkour-homeschool-parkour-2/2026-05-13/
LOCATION:Mission Parkour\, 4039 NE 10 Ave Oakland Park\, FL 33334\, Oakland Park\, FL\, 33334\, United States
CATEGORIES:Broward County
ATTACH;FMTTYPE=image/jpeg:https://funhomeschoolflorida.com/wp-content/uploads/2026/01/original.jpeg
END:VEVENT
BEGIN:VEVENT
DTSTART;TZID=America/New_York:20260513T140000
DTEND;TZID=America/New_York:20260513T150000
DTSTAMP:20260419T102126
CREATED:20260112T181514Z
LAST-MODIFIED:20260415T032716Z
UID:10000262-1778680800-1778684400@funhomeschoolflorida.com
SUMMARY:Mission Parkour - Homeschool Parkour
DESCRIPTION:Homeschool Parkour class is a 30 min structured lesson by a certified coach followed by a 30 free time for the student to explore. The 1 hour class is taught and supervised so the student can learn the basic movements of Parkour. As they progress the student can take the fundamental movements and apply them to their individual needs and style gaining strength\, confidence and flexibility including their imagination. \n  \nHOMESCHOOL DROP-IN $20 \nThis homeschool class can only be taken one time. Membership required to continue. \nHOMESCHOOL $50 \nThe class includes 4 sessions for the month. Can be used one time per week. Makeup sessions must be done within the subscription month. \nHOMESCHOOL  $99 \nThe class includes 10 sessions per the month. Can be used twice per week. Makeup sessions must be done within the subscription month \n  \nClasses offered: \nMonday & Tuesday @ 2pm \nWednesday @ 1pm & 2pm \nThese classes repeat weekly unless otherwise noted. Please sign up on website\, link is below
URL:https://funhomeschoolflorida.com/event/mission-parkour-homeschool-parkour/2026-05-13/
LOCATION:Mission Parkour\, 4039 NE 10 Ave Oakland Park\, FL 33334\, Oakland Park\, FL\, 33334\, United States
CATEGORIES:Broward County
ATTACH;FMTTYPE=image/jpeg:https://funhomeschoolflorida.com/wp-content/uploads/2026/01/original.jpeg
END:VEVENT
BEGIN:VEVENT
DTSTART;TZID=America/New_York:20260513T143000
DTEND;TZID=America/New_York:20260513T160000
DTSTAMP:20260419T102126
CREATED:20260309T064020Z
LAST-MODIFIED:20260418T033202Z
UID:10003366-1778682600-1778688000@funhomeschoolflorida.com
SUMMARY:[Largo] Homeschool Tumble Class
DESCRIPTION:Homeschool Tumble \nTuesdays 2:30-4:00 p.m. \nStarts April 22nd \nTOP DOG LAKEWOOD RANCH \n3135 Lakewood Ranch Blvd. Suite 110 Bradenton\, FL 34211 \n\n(941) 755-3547 \nHomeschool Tumble: 50 minutes of tumbling instruction which includes dynamic warm-up\, tumble shapes\, stations and skill building with a focus on correct form and technique. 40 minutes of open gym will conclude this class for a total of 1.5 hours of gym time. \nAges 5 and up. Cost is $75 per month with $5 sibling discounts. Registration is $50 per child. Families with more than 2 children will receive the homeschool family registration price of $75. This discount is given for families who attend the homeschool tumbling program. \nRegister through their website\, link below.
URL:https://funhomeschoolflorida.com/event/largo-homeschool-tumble-class/2026-05-13/
LOCATION:Top Dog Largo\, TOP DOG LARGO 1200 Starkey Road. Suite 210 Largo\, FL 33771\, Largo\, FL\, 33771\, United States
CATEGORIES:Tampa Bay
ATTACH;FMTTYPE=image/png:https://funhomeschoolflorida.com/wp-content/uploads/2026/03/1712763526.739bfb0503961c7cca7fe8dfc291b093dc855e74.png
END:VEVENT
BEGIN:VEVENT
DTSTART;TZID=America/New_York:20260513T150000
DTEND;TZID=America/New_York:20260513T155000
DTSTAMP:20260419T102126
CREATED:20260326T105206Z
LAST-MODIFIED:20260417T224627Z
UID:10003867-1778684400-1778687400@funhomeschoolflorida.com
SUMMARY:Act2Connect “Creative Communicators” | Ages 11-13 | Social-Emotional Learning Program
DESCRIPTION:Beyond Play \nAct2Connect “Creative Communicators” | Ages 11-13 | Social-Emotional Learning Program \n 6-week Session from April 8th – May 13th\, 2026 \nTime: 3:00- 3:50 \nCreative Communicators ages 10-13 \n Creative Communicators is a fun\, engaging group for older kids and teens who are ready to build confidence\, strengthen friendships\, and grow their emotional language and resilience. \nThrough improvisation\, role play\, team challenges\, and creative games\, participants strengthen social-emotional and executive functioning skills like flexible thinking\, problem-solving\, and frustration tolerance\, all in a safe\, supportive space. \nInfused with art\, music\, and movement\, and mindfulness\, each session makes growth empowering and fun.  \nEnroll now to reserve your spot! \nRegister through their website\, link below.
URL:https://funhomeschoolflorida.com/event/act2connect-creative-communicators-ages-11-13-social-emotional-learning-program/2026-05-13/
LOCATION:Beyond Play\, 11442 W Sample Rd\,\, Coral Springs\, FL\, 33065\, United States
CATEGORIES:Broward County
ATTACH;FMTTYPE=image/png:https://funhomeschoolflorida.com/wp-content/uploads/2026/03/CC-Act2Connect-1.png
ORGANIZER;CN="Beyond Play":MAILTO:hello@playschoolacademy.com
END:VEVENT
BEGIN:VEVENT
DTSTART;TZID=America/New_York:20260513T150000
DTEND;TZID=America/New_York:20260513T160000
DTSTAMP:20260419T102126
CREATED:20260328T145807Z
LAST-MODIFIED:20260417T223501Z
UID:10003873-1778684400-1778688000@funhomeschoolflorida.com
SUMMARY:FREE Kitten Care Presented by Broward County Animal Care
DESCRIPTION:Kitten Care \nPresented by Broward County Animal Care \nWednesday\, May 13 \n3:00pm – 4:00pm \nJoin Amanda Butler for this talk about kittens! \nThis program covers the importance of keeping kittens with their mothers\, what children should do if they find kittens\, and how to tell the age of kittens. You can also learn about foster and adoption programs at Animal Care and ways to help animals at the shelter. \nThis event also features live kittens. After the presentation\, audience members can meet the kittens and pet them.
URL:https://funhomeschoolflorida.com/event/free-kitten-care-presented-by-broward-county-animal-care-2/
LOCATION:Dania Beach Paul DeMaio Branch\, 1 Park Avenue East\,\, Dania Beach\, 33004\, United States
CATEGORIES:Broward County
ATTACH;FMTTYPE=image/png:https://funhomeschoolflorida.com/wp-content/uploads/2026/03/SWR_KITTEN_CARE_CC.png
END:VEVENT
END:VCALENDAR