BEGIN:VCALENDAR
VERSION:2.0
PRODID:-// - ECPv6.15.20//NONSGML v1.0//EN
CALSCALE:GREGORIAN
METHOD:PUBLISH
X-ORIGINAL-URL:https://funhomeschoolflorida.com
X-WR-CALDESC:Events for 
REFRESH-INTERVAL;VALUE=DURATION:PT1H
X-Robots-Tag:noindex
X-PUBLISHED-TTL:PT1H
BEGIN:VTIMEZONE
TZID:America/New_York
BEGIN:DAYLIGHT
TZOFFSETFROM:-0500
TZOFFSETTO:-0400
TZNAME:EDT
DTSTART:20250309T070000
END:DAYLIGHT
BEGIN:STANDARD
TZOFFSETFROM:-0400
TZOFFSETTO:-0500
TZNAME:EST
DTSTART:20251102T060000
END:STANDARD
BEGIN:DAYLIGHT
TZOFFSETFROM:-0500
TZOFFSETTO:-0400
TZNAME:EDT
DTSTART:20260308T070000
END:DAYLIGHT
BEGIN:STANDARD
TZOFFSETFROM:-0400
TZOFFSETTO:-0500
TZNAME:EST
DTSTART:20261101T060000
END:STANDARD
BEGIN:DAYLIGHT
TZOFFSETFROM:-0500
TZOFFSETTO:-0400
TZNAME:EDT
DTSTART:20270314T070000
END:DAYLIGHT
BEGIN:STANDARD
TZOFFSETFROM:-0400
TZOFFSETTO:-0500
TZNAME:EST
DTSTART:20271107T060000
END:STANDARD
END:VTIMEZONE
BEGIN:VEVENT
DTSTART;TZID=America/New_York:20260326T090000
DTEND;TZID=America/New_York:20260326T140000
DTSTAMP:20260419T120643
CREATED:20260320T110847Z
LAST-MODIFIED:20260418T205901Z
UID:10003740-1774515600-1774533600@funhomeschoolflorida.com
SUMMARY:[TAMPA] Homeschool Ballet/ Social Skills Acro/Hip Hop 1/2
DESCRIPTION:ABASI DANCE LAB \nThursdays \n**PICK ANY OR ALL CLASSES** \n9:00–10:00 am — Homeschool Social Skills Group (Ages 6–12) \n10:00–11:00 am — Homeschool Acro/Hip Hop 1/2 (Ages 6–12) \n1:00–2:00 pm — Homeschool Ballet Wellness Open Level (Ages 8–12) \nABASI Dance Lab is a unique dance studio in the Tampa area that uses Applied Behavior Analysis (ABA) principles for dance training\, offering both technical group classes and specialized private lessons for dancers of all abilities\, including those with special needs. Founded by Dr. Mallory Quinn\, it focuses on building confidence\, discipline\, and technical skill through an inclusive\, supportive environment that emphasizes mental and physical well-being alongside artistic expression. The studio offers a variety of styles like hip hop\, ballet\, jazz\, and acro\, and provides unique ABA-based therapy and training for dancers with disabilities. \nRegister through their website\, link below.
URL:https://funhomeschoolflorida.com/event/tampa-homeschool-ballet-social-skills-acro-hip-hop-1-2/2026-03-26/
LOCATION:ABASI DANCE LAB\, 11959 Sheldon Rd\, Tampa\, FL\, 33626\, United States
CATEGORIES:Tampa Bay
ATTACH;FMTTYPE=image/png:https://funhomeschoolflorida.com/wp-content/uploads/2026/03/ABASI-Logo-Transparent.png
ORGANIZER;CN="ABASI":MAILTO:info@abasidancelab.com
END:VEVENT
BEGIN:VEVENT
DTSTART;TZID=America/New_York:20260326T090000
DTEND;TZID=America/New_York:20260326T150000
DTSTAMP:20260419T120643
CREATED:20260119T153118Z
LAST-MODIFIED:20260417T034540Z
UID:10001855-1774515600-1774537200@funhomeschoolflorida.com
SUMMARY:Selah Dance Classes for Homeschoolers [ Ballet\, Tap\, Modern\, Jazz\, Pointe*] Thursday
DESCRIPTION:CLASSES FOR AGES 3-18 YEARS OLD \n*Additional class levels offered on their website* \nTeen Ballet: Ballet for pre-teens and teens\, who may be beginners or experienced dancers that want to be challenged and learn the art of dance\, however can not commit to a rigorous dance schedule. Dancers in this level are welcome to attend one to two days a week. Thursday 9:00 AM to 10:00 AM \nJazz IV & V: Jazz for ages 14 and older\, or according to ability. Thursday 9:15 -10:00 AM \nBallet II: Ballet for ages 10 and older\, or according to ability. Thursday 10:00- 11:00 AM \nJazz I: Jazz for ages 8 and older\, or according to ability. Thursday 10:00 AM to 10:45 AM \nBeginner Pointe: Beginner Pointe for level II. Two ballet classes a week are required in addition to pointe. Thursday 10:00 AM to 11:00 AM \nTap I & II: Tap for ages 8-11 or according to ability. Thursday 11:00 AM to 11:45 AM \nTeen Jazz: Jazz for pre-teens and teens\, who may be beginners or experienced dancers that want to be challenged and learn the art of dance\, however can not commit to a rigorous dance schedule. Dancers in this level are welcome to attend one to two days a week. Thursday 11:00 AM to 11:45 AM \nBallet V: Ballet for ages 14 and older or according to ability. Two ballet classes a week are required for dancers in this level. Evaluation required for this level. Thursday 11:30 to 1:00 PM \nModern II: Modern for ages 10 and older\, or according to ability. Thursday 12:00- 12:45 PM \nModern III: Modern for ages 12 and older\, or according to ability. Two ballet classes a week are required in this level. Evaluation required for this level. Thursday 1:00 PM to 2:00 PM \nModern IV & V: Modern for ages 14 and older\, or according to ability. Two ballet classes in addition to modern are required for this level. Evaluation required for this level. Thursday 2:00 PM to 3:00 PM \nPointe\, Level IV/V: Pointe for ages 14 and older or according to ability. Two ballet classes a week are required in addition to pointe. Evaluation required for this level. Thursday 1:00- 2:00 PM \nPointe III: Pointe for ages 12 and older or according to ability. Two ballet classes a week are required in addition to pointe. Evaluation required for this level. Thursday 2:15 PM to 3:00 PM \n*Additional class days available* \n  \nSelah Academy is a dance school for homeschoolers directed by former homeschool and New World School of the Arts graduate\, Brittany Kernohan. Selah Academy hopes to build each student’s dance technique as well as character. We believe as strongly in the power of a great dance education as we do about creating beautiful\, loving and strong students. Selah teaches students the fundamentals of dance\, body alignment and terminology\, with focus on ballet and modern dance education. Classes harbor a fun and encouraging atmosphere to help build confidence\, learn teamwork\, grace and develop dance technique. We offer ballet\, modern\, jazz\, tap and pointe classes all during the day\, specifically gearing these classes to homeschooled students. \nSelah Academy is proud to include the AMERICAN BALLET THEATRE® National Training Curriculum\, a breakthrough 9-level program that combines high quality artistic training with the basics of dancer health and child development. The ABT® National Training Curriculum consists of a comprehensive set of age-appropriate\, outcome-based guidelines to provide the highest quality ballet training to dance students of all ages and skill levels. \nWe offer classes Monday-Friday. We are at our West Davie location Monday through Wednesday\, and our East Davie location on Thursday and Friday. \nSelah West 12900 W State Rd 84\, Davie FL \nSelah East 6878 Stirling Road\, Davie\, Fl 33024 \n** We rent space from existing studios in the mornings/afternoons. You can not drop by when we are not there for information regarding Selah classes.  ** \nPlease register and pay through their website\, the link is below.
URL:https://funhomeschoolflorida.com/event/selah-dance-classes-for-homeschoolers-ballet-tap-modern-jazz-pointe-thursday/2026-03-26/
LOCATION:Selah East\, 6878 Stirling Road\, Davie\, 33024\, United States
CATEGORIES:Broward County
ATTACH;FMTTYPE=image/jpeg:https://funhomeschoolflorida.com/wp-content/uploads/2026/01/MES8330.jpeg
ORGANIZER;CN="Selah Dance Academy":MAILTO:ally@selahacademy.com
END:VEVENT
BEGIN:VEVENT
DTSTART;TZID=America/New_York:20260326T100000
DTEND;TZID=America/New_York:20260326T110000
DTSTAMP:20260419T120643
CREATED:20260113T070337Z
LAST-MODIFIED:20260225T115600Z
UID:10000990-1774519200-1774522800@funhomeschoolflorida.com
SUMMARY:She Persisted [ A MUSICAL]: Smart Stage Matinee Series For Students
DESCRIPTION:Recommended grade levels: 3-6 \nLap Tickets are available for purchase for children 12 months and under\, only available at the Broward Center’s AutoNation Box Office. Everyone in the theater must have a ticket. \nStudy guides for all of the Smart Stage Matinees are available for download. HERE \nShowtimes: \nThu\, Mar 26\, 2026 – 10:00 AM \nFri\, Mar 27\, 2026 – 10:00 AM \n$10.01 per ticket\, \nMust pay through their website\, link below \nInspired by the bestselling book “She Persisted” by Chelsea Clinton\, She Persisted\, The Musical is a trailblazing production that celebrates the strength and resilience of women who have shaped history. Fourth-grader Naomi’s field trip to a Women’s History Museum turns into a time travel adventure where she encounters inspirational women who have overcome barriers and made waves throughout U.S. history. From activists to athletes\, artists and more\, the musical features the stories of female groundbreakers such as Harriet Tubman\, Virginia Apgar\, Ruby Bridges\, Sally Ride\, Florence Griffith Joyner and Sonia Sotomayor. With humor\, heart and a powerful message\, this show encourages kids to embrace their own inner strength and keep pushing forward—no matter the obstacles. \nThis event requires a ticket\, please purchase on their website. Link is below. \nOther shows: https://www.browardcenter.org/smart-stage-matinees
URL:https://funhomeschoolflorida.com/event/she-persisted-smart-stage-matinee-series/2026-03-26/
LOCATION:Amaturo Theater at The Broward Center for the Performing Arts\, 201 SW 5th Avenue\, Fort Lauderdale\, FL\, 33312\, United States
CATEGORIES:Broward County
ATTACH;FMTTYPE=image/jpeg:https://funhomeschoolflorida.com/wp-content/uploads/2026/01/ShePersisted-EDP-955-x-500-9964ce5fed.jpg
END:VEVENT
BEGIN:VEVENT
DTSTART;TZID=America/New_York:20260326T100000
DTEND;TZID=America/New_York:20260326T110000
DTSTAMP:20260419T120643
CREATED:20260312T113131Z
LAST-MODIFIED:20260418T210924Z
UID:10003571-1774519200-1774522800@funhomeschoolflorida.com
SUMMARY:[Zephyrhills] East Pasco Gymnastics: Homeschool Gymnastics Classes
DESCRIPTION:East Pasco Gymnastics \n37150 Chancey Road Zephyrhills\, FL 33541 \nHomeschool Gymnastics Classes– Ages 3 and up. Offered on Thursdays at 10am and 11am. We offer an ALL BOYS class Tuesdays at 3:30pm. Classes before 4:30pm get a $20 discount per session. \nWe also have small and large meeting rooms available for use. If your homeschool group is interested\, please call 813-715-7400 or email us. \n 
URL:https://funhomeschoolflorida.com/event/zephyrhills-east-pasco-gymnastics-homeschool-gymnastics-classes/2026-03-26/
LOCATION:East Pasco Gymnastics Inc.\, 37150 Chancey Road\, Zephyrhills\, FL\, 33541\, United States
CATEGORIES:Tampa Bay
ATTACH;FMTTYPE=image/png:https://funhomeschoolflorida.com/wp-content/uploads/2026/03/cropped-EPG-FB-Cover.png
END:VEVENT
BEGIN:VEVENT
DTSTART;TZID=America/New_York:20260326T100000
DTEND;TZID=America/New_York:20260326T120000
DTSTAMP:20260419T120643
CREATED:20260317T041129Z
LAST-MODIFIED:20260417T144346Z
UID:10003689-1774519200-1774526400@funhomeschoolflorida.com
SUMMARY:[Mount Dora] 8-Week Farm School Animal Husbandry Homestead Program
DESCRIPTION:Violette Hill Hay Farm \n8-Week Farm School Animal Husbandry Homestead Program \nClasses held on Thursdays from 10am-12pm. Start Day February 19 \nTuition: $450 for 8 Weeks of once a week classes. Tuition covers all supplies and materials for the class. There is no make-up classes offered for this program. Tuition is due by the first day of class. \nStep into the rhythms of self-sufficient living with our Farm School Homestead Class. This hands-on course introduces the foundations of homesteading\, blending traditional skills with practical\, modern approaches. Students will learn how to grow food\, care for animals\, steward the land\, and build resilient systems that support a sustainable lifestyle. \nThrough guided instruction and real farm experience\, participants will explore gardening\, soil health\, composting\, food preservation\, basic animal care\, and simple farm infrastructure. Whether you’re dreaming of starting your own homestead or simply want to reconnect with where your food comes from\, this class offers the knowledge\, confidence\, and community to begin. \nNo prior experience required—just curiosity\, a willingness to get your hands dirty\, and a desire to learn from the land. \nProgram Structure: \n30-Minute Lesson \n30-Minute Lab \n30-Minute Outside Project \n30-Minute Time with Animals \nProgram Highlights: \nHands-On Learning: Students will roll up their sleeves and plunge into the rhythms of farm life\, from caring for animals in the bustling barn to wandering the sunlit pastures. With energetic\, hands-on activities\, they will transform classroom knowledge into unforgettable\, real-world adventures. \nInteractive and Fun: With games\, labs\, and engaging lessons\, each class is designed to be exciting and educational for young learners. \nParent Participation: Parents are required to stay with their children\, this is not a drop-off program. \nRegister through their website\, link below. \nPEP DIRECT PAY PROVIDER
URL:https://funhomeschoolflorida.com/event/mount-dora-8-week-farm-school-animal-husbandry-homestead-program/2026-03-26/
LOCATION:violettehillfarm\, 5505 North Orange Blossom trl\, Mount Dora\, FL\, United States
CATEGORIES:Orlando
ATTACH;FMTTYPE=image/png:https://funhomeschoolflorida.com/wp-content/uploads/2026/03/violettehill3.png
END:VEVENT
BEGIN:VEVENT
DTSTART;TZID=America/New_York:20260326T103000
DTEND;TZID=America/New_York:20260326T120000
DTSTAMP:20260419T120643
CREATED:20260309T074330Z
LAST-MODIFIED:20260418T210924Z
UID:10003399-1774521000-1774526400@funhomeschoolflorida.com
SUMMARY:[TARPON SPRINGS] KLSA HOMESCHOOL INDOOR SOCCER PROGRAM
DESCRIPTION:KLSA HOMESCHOOL INDOOR SOCCER PROGRAM \nRecreational: Beginner – Intermediate \nRecreational soccer and speed & agility session for homeschoolers. This session is held weekly throughout the school year. \nLEVEL: Beginner to Intermediate \nDAY: Thursdays \nTIME: 10:30 am – 12:00 pm \nCOST: \n– Drop-In Rate: $35 \n– Package Rate: $30 per session \nLOCATION: Soccer Warehouse \n1441 Savannah Ave\, STE A\, Tarpon Springs FL 34689 \n-OR- \nCompetitive: Intermediate – Advanced \nThis is a competitive training soccer session for homeschoolers. This session is held weekly throughout the school year. \nLEVEL: Intermediate to Advanced \nDAY: Thursdays \nTIME: 9:00 – 10:30 am \nCOST: \n– Drop-In Rate: $35 \n– Package Rate: $30 per session \nLOCATION: Soccer Warehouse \n1441 Savannah Ave\, STE A\, Tarpon Springs FL 34689 \nLooking for an exciting and active way to complement your child’s homeschool curriculum? Our Homeschool Soccer Program is the perfect blend of fun\, fitness\, and skill-building\, designed for all skill levels from beginners to advanced players. We offer both half-day and full-day options\, providing flexibility for families with various schedules. \nIndoor Turf Sessions (Skills\, Games\, and Fun) \nKids will enjoy a variety of soccer drills and small-sided games on our top-quality indoor turf. Whether they’re refining their skills or engaging in friendly competition\, it’s all about improving their soccer game while having fun. Our expert coaches will guide them through dynamic exercises to help them grow\, all while creating a positive and energetic atmosphere. \nChill Lounge & Snack Breaks (Relax\, Recharge\, Enjoy) \nWhen it’s time for a break\, kids can relax in our cool lounge area\, complete with snacks\, drinks\, and TV. They can grab a quick bite\, play mini-games\, or just unwind before jumping back into the action. Snacks and drinks are available for purchase to keep energy high throughout the day. \nTeamwork & Leadership Activities (Building Skills On and Off the Field) \nBeyond soccer\, we emphasize the importance of teamwork\, leadership\, and sportsmanship. Through group activities and team challenges\, kids will develop communication skills\, confidence\, and a sense of camaraderie. It’s all about fostering personal growth while having fun and learning to work together. \nOur goal is to provide every child with a fun\, engaging experience that helps them develop soccer skills\, make new friends\, and connect with other local homeschoolers who share their passion for the game. It’s all about creating an environment full of laughter\, teamwork\, and personal growth—both on and off the field! \nRegister through their website\, link below.
URL:https://funhomeschoolflorida.com/event/tarpon-springs-klsa-homeschool-indoor-soccer-program/2026-03-26/
LOCATION:KLSA Soccer Warehouse\, 1441 Savannah Ave\, Suite A\, Tarpon Springs\, FL 34689\, Tarpon Springs\, FL\, 34689\, United States
CATEGORIES:Tampa Bay
ATTACH;FMTTYPE=image/png:https://funhomeschoolflorida.com/wp-content/uploads/2026/03/IMG_84082.png
END:VEVENT
BEGIN:VEVENT
DTSTART;TZID=America/New_York:20260326T130000
DTEND;TZID=America/New_York:20260326T134500
DTSTAMP:20260419T120643
CREATED:20260307T110649Z
LAST-MODIFIED:20260418T210924Z
UID:10003328-1774530000-1774532700@funhomeschoolflorida.com
SUMMARY:[LUTZ] Martial Arts for Homeschoolers: West Coast Karate
DESCRIPTION:West Coast Karate \nMartial Arts for Homeschoolers \nTuesdays & Thursdays 1:00pm- 1:45pm \nAre you a homeschool family looking for an activity during the day? We offer classes Tuesdays and Thursdays at 1pm. Our homeschool students have access to our entire program including evening classes\, camps\, and Parent’s Night Out. \nINTERESTED? COME TRY A FREE TRIAL CLASS. \nCOME SEE WHY WE ARE THE NUMBER ONE MARTIAL ARTS PROGRAM FOR HOMESCHOOLERS IN AREA! \n6 Weeks Intro for $125 \nRegister through their website\, link below.
URL:https://funhomeschoolflorida.com/event/lutz-martial-arts-for-homeschoolers-west-coast-karate-2/2026-03-26/
LOCATION:West Coast Karate\, 23604 State Road 54\, Lutz\, FL\, 33559\, United States
CATEGORIES:Tampa Bay
ATTACH;FMTTYPE=image/jpeg:https://funhomeschoolflorida.com/wp-content/uploads/2026/03/qtq_95-2.jpeg
ORGANIZER;CN="West Coast Karate":MAILTO:westcoastkaratedojo@gmail.com
END:VEVENT
BEGIN:VEVENT
DTSTART;TZID=America/New_York:20260326T130000
DTEND;TZID=America/New_York:20260326T150000
DTSTAMP:20260419T120643
CREATED:20260112T185251Z
LAST-MODIFIED:20260415T032716Z
UID:10000950-1774530000-1774537200@funhomeschoolflorida.com
SUMMARY:SoFlo Ninja Academy - Home School Drop Off
DESCRIPTION:Give your homeschoolers a fun and structured afternoon! We offer 1–3 PM drop-off\, which includes our Ninja Homeschool Class at 1:30 PM plus supervised Open Gym before and after. Ages 6+ \n  \n$45.00 one class \n$115.00 for 3 classes \n  \n 
URL:https://funhomeschoolflorida.com/event/soflo-ninja-academy-home-school-drop-off/2026-03-26/
LOCATION:SoFlo Ninja Academy\, 1751 W Copans Rd Suite 1 & 2\, Pompano Beach\, FL\, 33064\, United States
CATEGORIES:Broward County
ATTACH;FMTTYPE=image/webp:https://funhomeschoolflorida.com/wp-content/uploads/2026/01/SOFLO_Logo.webp
END:VEVENT
BEGIN:VEVENT
DTSTART;TZID=America/New_York:20260326T131500
DTEND;TZID=America/New_York:20260326T140000
DTSTAMP:20260419T120643
CREATED:20260313T075313Z
LAST-MODIFIED:20260417T152317Z
UID:10003550-1774530900-1774533600@funhomeschoolflorida.com
SUMMARY:[ Palm Harbor] Pro Karate Center Homeschool Class
DESCRIPTION:The Real Pro Karate Center in Palm Harbor \nOur Homeschool class offers Homeschool students an opportunity to participate in Karate while earning their Physical Education credits. This class is offered one time per week on Thursday’s from 1:15-2pm eastern time. It is lead by Sensei Meghan Fortune with assistance from Sensei Devin McCauley. Come join this amazing class! \nPro Karate Center \n843 Co Rd 1 Palm Harbor FL 34683 \nRegister through their website\, link below.
URL:https://funhomeschoolflorida.com/event/palm-harbor-pro-karate-center-homeschool-class/2026-03-26/
LOCATION:Pro Karate Center\, 843 Co Rd 1\, Palm Harbor\, FL\, 34683\, United States
CATEGORIES:Tampa Bay
ATTACH;FMTTYPE=image/png:https://funhomeschoolflorida.com/wp-content/uploads/2026/03/66508_1711996382.png
END:VEVENT
BEGIN:VEVENT
DTSTART;TZID=America/New_York:20260326T133000
DTEND;TZID=America/New_York:20260326T143000
DTSTAMP:20260419T120643
CREATED:20260112T184708Z
LAST-MODIFIED:20260415T032716Z
UID:10000881-1774531800-1774535400@funhomeschoolflorida.com
SUMMARY:SoFlo Ninja Academy - Home School Ninja class
DESCRIPTION:Home School Ninja \n(Ages 5-12) \nOur Home School Ninja class is specifically crafted for young enthusiasts aged 5 to 12\, providing a unique opportunity for home-schooled children to dive into the world of Soflo Ninja. This daytime class is not just about tackling obstacles; it’s a comprehensive physical education program designed to enhance endurance\, stability\, agility\, and more. Through a combination of structured ninja training and free play\, children learn to navigate challenging courses\, boosting their physical fitness and problem-solving skills. The environment is supportive and motivational\, making it ideal for building confidence and social skills among peers with similar interests. Join us to give your child a fun\, dynamic way to stay active and learn invaluable life skills that go beyond physical fitness. \n*Exceptions may be made for siblings. Please inquire. \n$35.00 \nPlease sign up on their website\, the link is below.
URL:https://funhomeschoolflorida.com/event/soflo-ninja-academy-home-school-ninja-class/2026-03-26/
LOCATION:SoFlo Ninja Academy\, 1751 W Copans Rd Suite 1 & 2\, Pompano Beach\, FL\, 33064\, United States
CATEGORIES:Broward County
ATTACH;FMTTYPE=image/webp:https://funhomeschoolflorida.com/wp-content/uploads/2026/01/SOFLO_Logo.webp
END:VEVENT
BEGIN:VEVENT
DTSTART;TZID=America/New_York:20260326T143000
DTEND;TZID=America/New_York:20260326T160000
DTSTAMP:20260419T120643
CREATED:20260309T065901Z
LAST-MODIFIED:20260418T210923Z
UID:10003354-1774535400-1774540800@funhomeschoolflorida.com
SUMMARY:[ Lakewood Ranch] Homeschool Tumble Class
DESCRIPTION:TOP DOG LAKEWOOD RANCH \nHomeschool Tumble \nThursday 2:30-3:55 p.m \n3135 Lakewood Ranch Blvd. Suite 110 Bradenton\, FL 34211 \nHomeschool Tumble: 50 minutes of tumbling instruction which includes dynamic warm-up\, tumble shapes\, stations and skill building with a focus on correct form and technique. 40 minutes of open gym will conclude this class for a total of 1.5 hours of gym time. \nAges 5 and up. Cost is $85 per month with $5 sibling discounts. Registration is $50 per child. Families with more than 2 children will receive the homeschool family registration price of $75. This discount is given for families who attend the homeschool tumbling program. This class is for homeschool students only and can’t be used as a make-up for other regular one hour classes. \nRegister through their website\, link below.
URL:https://funhomeschoolflorida.com/event/lakewood-ranch-homeschool-tumble-class/2026-03-26/
LOCATION:TOP DOG LAKEWOOD RANCH\, TOP DOG LAKEWOOD RANCH 3135 Lakewood Ranch Blvd. Suite 110\, Bradenton\, United States
CATEGORIES:Tampa Bay
ATTACH;FMTTYPE=image/png:https://funhomeschoolflorida.com/wp-content/uploads/2026/03/1712763526.739bfb0503961c7cca7fe8dfc291b093dc855e74-1.png
END:VEVENT
BEGIN:VEVENT
DTSTART;TZID=America/New_York:20260326T153000
DTEND;TZID=America/New_York:20260326T161500
DTSTAMP:20260419T120643
CREATED:20260320T120254Z
LAST-MODIFIED:20260417T155853Z
UID:10003767-1774539000-1774541700@funhomeschoolflorida.com
SUMMARY:FREE The Ringling Inspires @ Jan Kaminis Platt Regional Library
DESCRIPTION:Jan Kaminis Platt Regional Library \nThursday\, March 26 3:30pm – 4:15pm \nThe Ringling Inspires \nJoin the Ringling Art Museum as they bring an artwork from their collection\, do a deep dive into the piece as well as a follow up art activity related to it.Recommended for children aged 6 to 12 years old. Registration is recommended. \nJan Kaminis Platt Regional Library \n3910 South Manhattan Avenue\, Tampa\, FL\, 33611
URL:https://funhomeschoolflorida.com/event/the-ringling-inspires-jan-kaminis-platt-regional-library/
LOCATION:Jan Kaminis Platt Regional Library\, 3910 South Manhattan Avenue\, Tampa\, FL\, 33611\, United States
ATTACH;FMTTYPE=image/jpeg:https://funhomeschoolflorida.com/wp-content/uploads/2026/03/HCPL_Continuing_Ed_Approved.jpg
END:VEVENT
BEGIN:VEVENT
DTSTART;TZID=America/New_York:20260326T153000
DTEND;TZID=America/New_York:20260326T163000
DTSTAMP:20260419T120643
CREATED:20260221T210438Z
LAST-MODIFIED:20260417T225414Z
UID:10002257-1774539000-1774542600@funhomeschoolflorida.com
SUMMARY:Crafts for Teens: Jewelry Making
DESCRIPTION:Free \nThursday\, March 26 \n3:30pm – 4:30pm \nLet’s get creative! Make a unique piece of jewelry with a variety of colorful beads. \nNo jewelry making skills required. For ages 12 and up
URL:https://funhomeschoolflorida.com/event/crafts-for-teens-jewelry-making/
LOCATION:North Lauderdale Saraniero Branch\, 6901 Kimberly Boulevard\, North Lauderdale\, FL\, 33068\, United States
CATEGORIES:Broward County
END:VEVENT
END:VCALENDAR