BEGIN:VCALENDAR
VERSION:2.0
PRODID:-// - ECPv6.15.20//NONSGML v1.0//EN
CALSCALE:GREGORIAN
METHOD:PUBLISH
X-ORIGINAL-URL:https://funhomeschoolflorida.com
X-WR-CALDESC:Events for 
REFRESH-INTERVAL;VALUE=DURATION:PT1H
X-Robots-Tag:noindex
X-PUBLISHED-TTL:PT1H
BEGIN:VTIMEZONE
TZID:America/New_York
BEGIN:DAYLIGHT
TZOFFSETFROM:-0500
TZOFFSETTO:-0400
TZNAME:EDT
DTSTART:20250309T070000
END:DAYLIGHT
BEGIN:STANDARD
TZOFFSETFROM:-0400
TZOFFSETTO:-0500
TZNAME:EST
DTSTART:20251102T060000
END:STANDARD
BEGIN:DAYLIGHT
TZOFFSETFROM:-0500
TZOFFSETTO:-0400
TZNAME:EDT
DTSTART:20260308T070000
END:DAYLIGHT
BEGIN:STANDARD
TZOFFSETFROM:-0400
TZOFFSETTO:-0500
TZNAME:EST
DTSTART:20261101T060000
END:STANDARD
BEGIN:DAYLIGHT
TZOFFSETFROM:-0500
TZOFFSETTO:-0400
TZNAME:EDT
DTSTART:20270314T070000
END:DAYLIGHT
BEGIN:STANDARD
TZOFFSETFROM:-0400
TZOFFSETTO:-0500
TZNAME:EST
DTSTART:20271107T060000
END:STANDARD
END:VTIMEZONE
BEGIN:VEVENT
DTSTART;TZID=America/New_York:20260311T100000
DTEND;TZID=America/New_York:20260311T110000
DTSTAMP:20260420T102132
CREATED:20260113T064625Z
LAST-MODIFIED:20260417T144123Z
UID:10000987-1773223200-1773226800@funhomeschoolflorida.com
SUMMARY:Sleeping Beauty: Smart Stage Matinee Series
DESCRIPTION:A sleeping princess\, a spellbound Prince and more fairies than you can shake a stick at are all part of this quirky adaptation of the popular tale. The evil Queen of the Fairies exacts her revenge on the royal family by sending the beautiful Princess into an everlasting sleep. To the audiences delight\, more than one spell is about to be broken by the kiss of a handsome Prince. \nRecommended grade levels: 1-4 \nLap Tickets are available for purchase for children 12 months and under\, only available at the Broward Center’s AutoNation Box Office. Everyone in the theater must have a ticket. \nStudy guides for all of the Smart Stage Matinees are available for download. HERE \nShowtimes: \nTue\, Mar 10\, 2026 – 10:00 AM \nWed\, Mar 11\, 2026 – 10:00 AM \n$10.01 per ticket \nThis event requires a ticket\, please purchase on their website. Link is below. \nOther shows: https://www.browardcenter.org/smart-stage-matinees
URL:https://funhomeschoolflorida.com/event/sleeping-beauty-smart-stage-matinee-series-2/
LOCATION:Amaturo Theater at The Broward Center for the Performing Arts\, 201 SW 5th Avenue\, Fort Lauderdale\, FL\, 33312\, United States
CATEGORIES:Broward County
ATTACH;FMTTYPE=image/jpeg:https://funhomeschoolflorida.com/wp-content/uploads/2026/01/edp_SleepingBeauty_955x500-3d5faab533.jpg
END:VEVENT
BEGIN:VEVENT
DTSTART;TZID=America/New_York:20260311T100000
DTEND;TZID=America/New_York:20260311T120000
DTSTAMP:20260420T102132
CREATED:20260301T153318Z
LAST-MODIFIED:20260418T210725Z
UID:10002381-1773223200-1773230400@funhomeschoolflorida.com
SUMMARY:[Tampa] BOUNCE ZONE Homeschool Days
DESCRIPTION:Homeschool Day is every Wednesday from 10 AM – 12 PM\, created for homeschool kids to enjoy active play\, socialize\, and have a blast together! \nEach session is just $15.99 per child (ages 12 and under). \nCome bounce\, laugh\, and make new friends during these exclusive morning sessions — only at Bounce Zone Tampa! 💜
URL:https://funhomeschoolflorida.com/event/tampa-bounce-zone-homeschool-days/2026-03-11/
LOCATION:BOUNCE ZONE\, 5208 West Linebaugh Ave\, Tampa\, FL\, 33624\, United States
CATEGORIES:Tampa Bay
ATTACH;FMTTYPE=image/png:https://funhomeschoolflorida.com/wp-content/uploads/2026/03/ToddlerTime.png
END:VEVENT
BEGIN:VEVENT
DTSTART;TZID=America/New_York:20260311T100000
DTEND;TZID=America/New_York:20260311T123000
DTSTAMP:20260420T102132
CREATED:20260115T101550Z
LAST-MODIFIED:20260415T034840Z
UID:10001016-1773223200-1773232200@funhomeschoolflorida.com
SUMMARY:YOUNG SEEDs IN THE PARK- Heal the Planet’s Sustainable Energy EDucation!
DESCRIPTION:  \nYoung SEEDs In The Park for homeschoolers is FREE for children ages 5 to 12 from 10:00 am – 12:30 pm the 2nd Wednesday of every month. \nSessions include gardening\, food demos\, yoga\, breathwork\, mindfulness exercises\, and more. \nSEED Program is a hands-on learning program designed to connect students with nature\, our planet\, and their place in it. The SEED Program takes a holistic approach\, addressing ecological awareness and sustainability\, including topics such as self-identity\, food systems\, biodiversity\, and systems thinking. \n  \nPlease register through their website\, link is below. \n 
URL:https://funhomeschoolflorida.com/event/young-seeds-in-the-park-heal-the-planets-sustainable-energy-education/2026-03-11/
LOCATION:SNYDER PARK\, 3299 Southwest 4th Avenue\, Fort Lauderdale\, FL\, 33315\, United States
CATEGORIES:Broward County
ATTACH;FMTTYPE=image/png:https://funhomeschoolflorida.com/wp-content/uploads/2026/01/HTPLogonobackgroundnopuntocom.png
GEO:26.15118;-80.140832
X-APPLE-STRUCTURED-LOCATION;VALUE=URI;X-ADDRESS=SNYDER PARK 3299 Southwest 4th Avenue Fort Lauderdale FL 33315 United States;X-APPLE-RADIUS=500;X-TITLE=3299 Southwest 4th Avenue:geo:-80.140832,26.15118
END:VEVENT
BEGIN:VEVENT
DTSTART;TZID=America/New_York:20260311T114500
DTEND;TZID=America/New_York:20260311T124500
DTSTAMP:20260420T102132
CREATED:20260311T035652Z
LAST-MODIFIED:20260418T210925Z
UID:10003486-1773229500-1773233100@funhomeschoolflorida.com
SUMMARY:[Odessa] Homeschool Level 1 Co-Ed: Suncoast Gymnastics Academy
DESCRIPTION:Suncoast Gymnastics Academy \nHomeschool Level 1 Co-Ed \nSchedule: Wed|11:45 AM – 12:45 PM \nInstructors: Kathleen Bisbe & Sean Nummy \nProgram: Homeschool \nTuition: $107.00 \nSuncoast Gymnastics Academy \n11131 Cargo Ct. Odessa\, FL 33556
URL:https://funhomeschoolflorida.com/event/odessa-homeschool-level-1-co-ed-suncoast-gymnastics-academy/2026-03-11/
LOCATION:Suncoast Gymnastics Academy\, 11131 Cargo Ct.\, Odessa\, FL\, 33556\, United States
CATEGORIES:Tampa Bay
ATTACH;FMTTYPE=image/png:https://funhomeschoolflorida.com/wp-content/uploads/2026/03/1692635624.f00edf02b723b7b23483d6ca116ab8a31251d1d9-1.png
END:VEVENT
BEGIN:VEVENT
DTSTART;TZID=America/New_York:20260311T130000
DTEND;TZID=America/New_York:20260311T140000
DTSTAMP:20260420T102132
CREATED:20260112T182546Z
LAST-MODIFIED:20260415T032716Z
UID:10000669-1773234000-1773237600@funhomeschoolflorida.com
SUMMARY:Mission Parkour - Homeschool Parkour
DESCRIPTION:Homeschool Parkour class is a 30 min structured lesson by a certified coach followed by a 30 free time for the student to explore. The 1 hour class is taught and supervised so the student can learn the basic movements of Parkour. As they progress the student can take the fundamental movements and apply them to their individual needs and style gaining strength\, confidence and flexibility including their imagination. \n  \nHOMESCHOOL DROP-IN $20 \nThis homeschool class can only be taken one time. Membership required to continue. \nHOMESCHOOL $50 \nThe class includes 4 sessions for the month. Can be used one time per week. Makeup sessions must be done within the subscription month. \nHOMESCHOOL  $99 \nThe class includes 10 sessions per the month. Can be used twice per week. Makeup sessions must be done within the subscription month \n  \nClasses offered: \nMonday & Tuesday @ 2pm \nWednesday @ 1pm & 2pm \nThese classes repeat weekly unless otherwise noted. Please sign up on website\, link is below
URL:https://funhomeschoolflorida.com/event/mission-parkour-homeschool-parkour-2/2026-03-11/
LOCATION:Mission Parkour\, 4039 NE 10 Ave Oakland Park\, FL 33334\, Oakland Park\, FL\, 33334\, United States
CATEGORIES:Broward County
ATTACH;FMTTYPE=image/jpeg:https://funhomeschoolflorida.com/wp-content/uploads/2026/01/original.jpeg
END:VEVENT
BEGIN:VEVENT
DTSTART;TZID=America/New_York:20260311T130000
DTEND;TZID=America/New_York:20260311T143000
DTSTAMP:20260420T102132
CREATED:20260301T171835Z
LAST-MODIFIED:20260418T210925Z
UID:10002641-1773234000-1773239400@funhomeschoolflorida.com
SUMMARY:[Tampa]The Florida Aquarium Homeschool Classes: CONSERVATION
DESCRIPTION:Classroom: Conservation \n1-2pm /Ages 6–8 | Rescue and Rehabilitation \nMany organizations play a role in rescuing and rehabilitating animals like sea turtles and shore birds. Find out how this process works as you role-play being a rescuer. \n  \n1-2:30pm/ Ages 9–11 | Aquaculture \nFarming fish can be a great way to help threatened and endangered species. Discover what is involved in this interesting process. \n  \n1-2:30pm/Ages 12–14 | Penguins \nLearn about the amazing world of penguins. Find out what threats they face\, and how humans can help. \nCost \n$22 per child \nRegister on their website
URL:https://funhomeschoolflorida.com/event/tampathe-florida-aquarium-homeschool-classes/
LOCATION:The Florida Aquarium\, 701 Channelside Drive\, Tampa\, FL\, 33062\, United States
CATEGORIES:Tampa Bay
ATTACH;FMTTYPE=image/jpeg:https://funhomeschoolflorida.com/wp-content/uploads/2026/03/900x900_TFA05319.jpg
ORGANIZER;CN="The Florida Aquarium":MAILTO:moreinfo@flaquarium.org
END:VEVENT
BEGIN:VEVENT
DTSTART;TZID=America/New_York:20260311T130000
DTEND;TZID=America/New_York:20260311T143000
DTSTAMP:20260420T102132
CREATED:20260301T184208Z
LAST-MODIFIED:20260418T210924Z
UID:10002646-1773234000-1773239400@funhomeschoolflorida.com
SUMMARY:[Tampa]The Florida Aquarium Homeschool Classes: Careers
DESCRIPTION:May 13\, 2026 \nClassroom: Careers \n1-2pm  Ages 6–8 | SCUBA \nMany careers incorporate SCUBA diving as part or most of the job. Learn about some of these underwater career options. \n1-2:30pm.   Ages 9–11 | Education \nTeaching people about animals and the environment is critically important for the future of our planet. Learn about some of the details of this amazing and rewarding career. \n1-2:30pm.    Ages 12–14 | Environmental \nIf you are passionate about helping the environment\, an environmental career might be right for you. Learn about some of the options for careers in this important and rewarding career. \nCost \n$22 per child
URL:https://funhomeschoolflorida.com/event/tampathe-florida-aquarium-homeschool-classes-careers/
LOCATION:The Florida Aquarium\, 701 Channelside Drive\, Tampa\, FL\, 33062\, United States
CATEGORIES:Tampa Bay
ATTACH;FMTTYPE=image/jpeg:https://funhomeschoolflorida.com/wp-content/uploads/2026/03/900x900_seatrek-march-2025-30_O.jpg
ORGANIZER;CN="The Florida Aquarium":MAILTO:moreinfo@flaquarium.org
END:VEVENT
BEGIN:VEVENT
DTSTART;TZID=America/New_York:20260311T140000
DTEND;TZID=America/New_York:20260311T150000
DTSTAMP:20260420T102132
CREATED:20260112T181514Z
LAST-MODIFIED:20260415T032716Z
UID:10000235-1773237600-1773241200@funhomeschoolflorida.com
SUMMARY:Mission Parkour - Homeschool Parkour
DESCRIPTION:Homeschool Parkour class is a 30 min structured lesson by a certified coach followed by a 30 free time for the student to explore. The 1 hour class is taught and supervised so the student can learn the basic movements of Parkour. As they progress the student can take the fundamental movements and apply them to their individual needs and style gaining strength\, confidence and flexibility including their imagination. \n  \nHOMESCHOOL DROP-IN $20 \nThis homeschool class can only be taken one time. Membership required to continue. \nHOMESCHOOL $50 \nThe class includes 4 sessions for the month. Can be used one time per week. Makeup sessions must be done within the subscription month. \nHOMESCHOOL  $99 \nThe class includes 10 sessions per the month. Can be used twice per week. Makeup sessions must be done within the subscription month \n  \nClasses offered: \nMonday & Tuesday @ 2pm \nWednesday @ 1pm & 2pm \nThese classes repeat weekly unless otherwise noted. Please sign up on website\, link is below
URL:https://funhomeschoolflorida.com/event/mission-parkour-homeschool-parkour/2026-03-11/
LOCATION:Mission Parkour\, 4039 NE 10 Ave Oakland Park\, FL 33334\, Oakland Park\, FL\, 33334\, United States
CATEGORIES:Broward County
ATTACH;FMTTYPE=image/jpeg:https://funhomeschoolflorida.com/wp-content/uploads/2026/01/original.jpeg
END:VEVENT
BEGIN:VEVENT
DTSTART;TZID=America/New_York:20260311T150000
DTEND;TZID=America/New_York:20260311T170000
DTSTAMP:20260420T102132
CREATED:20260217T023043Z
LAST-MODIFIED:20260417T144036Z
UID:10002251-1773241200-1773248400@funhomeschoolflorida.com
SUMMARY:Neuroplasticity through Beading Learn Pony Beading Basics
DESCRIPTION:3:00pm – 5:00pm \nOpen to any skill level: Beginning to expert \nPony beading \nJOIN US! \nExpand your brain’s neural bounds and pick up a new hobby! Through learning new skills and techniques\, your brain will become more elastic with each beaded row. Open to any skill level– beginner to expert. Learn beading basics and learn how to follow pony bead patterns. \nWe meet by different age groups on the following dates: \nWednesday\, March 11\, 2026: Tweens \nWednesday March 18\, 2026: Teens \nWednesday\, March 19\, 2026: Kids \nPlease register through their website\,  link is below.
URL:https://funhomeschoolflorida.com/event/neuroplasticity-through-beading-learn-pony-beading-basics/2026-03-11/
CATEGORIES:Broward County
END:VEVENT
END:VCALENDAR