BEGIN:VCALENDAR
VERSION:2.0
PRODID:-// - ECPv6.15.20//NONSGML v1.0//EN
CALSCALE:GREGORIAN
METHOD:PUBLISH
X-ORIGINAL-URL:https://funhomeschoolflorida.com
X-WR-CALDESC:Events for 
REFRESH-INTERVAL;VALUE=DURATION:PT1H
X-Robots-Tag:noindex
X-PUBLISHED-TTL:PT1H
BEGIN:VTIMEZONE
TZID:America/New_York
BEGIN:DAYLIGHT
TZOFFSETFROM:-0500
TZOFFSETTO:-0400
TZNAME:EDT
DTSTART:20250309T070000
END:DAYLIGHT
BEGIN:STANDARD
TZOFFSETFROM:-0400
TZOFFSETTO:-0500
TZNAME:EST
DTSTART:20251102T060000
END:STANDARD
BEGIN:DAYLIGHT
TZOFFSETFROM:-0500
TZOFFSETTO:-0400
TZNAME:EDT
DTSTART:20260308T070000
END:DAYLIGHT
BEGIN:STANDARD
TZOFFSETFROM:-0400
TZOFFSETTO:-0500
TZNAME:EST
DTSTART:20261101T060000
END:STANDARD
BEGIN:DAYLIGHT
TZOFFSETFROM:-0500
TZOFFSETTO:-0400
TZNAME:EDT
DTSTART:20270314T070000
END:DAYLIGHT
BEGIN:STANDARD
TZOFFSETFROM:-0400
TZOFFSETTO:-0500
TZNAME:EST
DTSTART:20271107T060000
END:STANDARD
END:VTIMEZONE
BEGIN:VEVENT
DTSTART;TZID=America/New_York:20260310T100000
DTEND;TZID=America/New_York:20260310T110000
DTSTAMP:20260420T102136
CREATED:20260113T064431Z
LAST-MODIFIED:20260417T144124Z
UID:10000986-1773136800-1773140400@funhomeschoolflorida.com
SUMMARY:Sleeping Beauty: Smart Stage Matinee Series
DESCRIPTION:A sleeping princess\, a spellbound Prince and more fairies than you can shake a stick at are all part of this quirky adaptation of the popular tale. The evil Queen of the Fairies exacts her revenge on the royal family by sending the beautiful Princess into an everlasting sleep. To the audiences delight\, more than one spell is about to be broken by the kiss of a handsome Prince. \nRecommended grade levels: 1-4 \nLap Tickets are available for purchase for children 12 months and under\, only available at the Broward Center’s AutoNation Box Office. Everyone in the theater must have a ticket. \nStudy guides for all of the Smart Stage Matinees are available for download. HERE \nShowtimes: \nTue\, Mar 10\, 2026 – 10:00 AM \nWed\, Mar 11\, 2026 – 10:00 AM \n$10.01 per ticket \nThis event requires a ticket\, please purchase on their website. Link is below. \nOther shows: https://www.browardcenter.org/smart-stage-matinees
URL:https://funhomeschoolflorida.com/event/sleeping-beauty-smart-stage-matinee-series/
LOCATION:Amaturo Theater at The Broward Center for the Performing Arts\, 201 SW 5th Avenue\, Fort Lauderdale\, FL\, 33312\, United States
CATEGORIES:Broward County
ATTACH;FMTTYPE=image/jpeg:https://funhomeschoolflorida.com/wp-content/uploads/2026/01/edp_SleepingBeauty_955x500-3d5faab533.jpg
END:VEVENT
BEGIN:VEVENT
DTSTART;TZID=America/New_York:20260310T103000
DTEND;TZID=America/New_York:20260310T130000
DTSTAMP:20260420T102136
CREATED:20260115T114629Z
LAST-MODIFIED:20260417T034540Z
UID:10001041-1773138600-1773147600@funhomeschoolflorida.com
SUMMARY:Culinary Casita Living Arts Class W/ Project Flourish
DESCRIPTION:For ages 7 – 14 yrs \n10:30am – 1:00pm \nJoin Team Flourish for a delicious deep dive into plant-forward eating and living! We’ll explore home economics and food literacy principles through a lens of fresh local ingredients\, food stories\, life skills and everyday cooking techniques\, while creating recipes that truly celebrate the season. \nProject Flourish Community is a direct billing participant with Step Up for Students. Payments can be allocated directly through your ESA. \n**Registration closes 2 days prior to class \nNotes \nFood labs feature Vegetarian friendly recipes \nWhat you’ll learn: \nTues. 1/20 – Spice Market \nTues. 2/3 – Cocoa Confections \nTues. 2/17 – Liberation’s Table\, Black History Culinary Showcase \nTues. 3/10 – Citrus Celebrations \nTues. 3/24 – Taste The Rainbow \nTues. 4/7 – Garden-To-Table Grazing \nTues. 4/21 – Edible Earth\, zero waste cooking \nTues. 5/5 – Blooms & Brew Tea Party \nTues. 5/ 19 – Farmers Market Finds \nPlease register and pay through their website. \nDrop-In $42/day [Self-Pay or Step Up Direct Bill] \nSibling Discounts: Second Child (10%)\, Third Child (10%)\, Any Additional Child (10%)
URL:https://funhomeschoolflorida.com/event/home-economics-culinary-casita-living-arts-class-w-project-flourish/2026-03-10/
LOCATION:Deerfield Beach Historical Society\, 84 SE 4th Ave\, Deerfield beach\, FL\, 33441\, United States
CATEGORIES:Broward County
ATTACH;FMTTYPE=image/webp:https://funhomeschoolflorida.com/wp-content/uploads/2026/01/FINALPFSchoolhouseheader.webp
ORGANIZER;CN="Project Flourish":MAILTO:alicia@projectflourishcommunity.com
END:VEVENT
BEGIN:VEVENT
DTSTART;TZID=America/New_York:20260310T120000
DTEND;TZID=America/New_York:20260310T124500
DTSTAMP:20260420T102136
CREATED:20260228T025047Z
LAST-MODIFIED:20260415T032332Z
UID:10002296-1773144000-1773146700@funhomeschoolflorida.com
SUMMARY:[PLANT CITY] MUSIC WITH NONA
DESCRIPTION:Music with Nona Lisa Music Classes begin January 6\, 2026 and run until May 26\, 2026!!!! \nPreschool class- 11 am \nK/1st grade class- 12 pm-12:45 pm \n**Kindergarten/1st grade classes are once a week for 45 minutes. $20 per week\, payable by the month in advance. (March will have 5 weeks = $100) \nPre-school classes are 30 minutes due to child’s limited attention span. $15 per week\, payable by the month in advance. (March will have 5 weeks = $75) \nPre- school and K/1 music classes will involve the use of fun manipulatives\, such as finger puppets\, hand puppets\, felt boards\, scarves\, parachutes\, simple classroom instruments to teach steady beat/rhythm\, music focused books\, and circle games. \nCLASS LOCATION \nThe Red Calliope Art Gallery on Evers St. \n109 S. Evers St. Plant City\, FL 33563 \nIF you are using STEP UP funds (available for Kindergarten and 1st as well as preschool students with a diagnosis)\, register by contacting me with form below\, and then reserving funds with Step Up\, but if you are not\, you may simply send an email by contacting me below and specifying which class you are signing up for as well as the name and age of your child. \nPayment is per month and must be received prior to first class of month via Cashapp ($LisaSanchesWestcott) or cash. \nRegister for either or both classes at www.music-with-nona-lisa.com
URL:https://funhomeschoolflorida.com/event/plant-city-music-with-nona/2026-03-10/
LOCATION:The Red Calliope Art Gallery on Evers St.\, 109 S. Evers St.\, Plant City\, FL\, 33563\, United States
CATEGORIES:Tampa Bay
ATTACH;FMTTYPE=image/jpeg:https://funhomeschoolflorida.com/wp-content/uploads/2026/02/FB_IMG_1772246176898.jpg
END:VEVENT
BEGIN:VEVENT
DTSTART;TZID=America/New_York:20260310T130000
DTEND;TZID=America/New_York:20260310T134500
DTSTAMP:20260420T102136
CREATED:20260307T110522Z
LAST-MODIFIED:20260418T210925Z
UID:10003302-1773147600-1773150300@funhomeschoolflorida.com
SUMMARY:[LUTZ] Martial Arts for Homeschoolers: West Coast Karate
DESCRIPTION:West Coast Karate \nMartial Arts for Homeschoolers \nTuesdays & Thursdays 1:00pm- 1:45pm \nAre you a homeschool family looking for an activity during the day? We offer classes Tuesdays and Thursdays at 1pm. Our homeschool students have access to our entire program including evening classes\, camps\, and Parent’s Night Out. \nINTERESTED? COME TRY A FREE TRIAL CLASS. \nCOME SEE WHY WE ARE THE NUMBER ONE MARTIAL ARTS PROGRAM FOR HOMESCHOOLERS IN AREA! \n6 Weeks Intro for $125 \nRegister through their website\, link below.
URL:https://funhomeschoolflorida.com/event/lutz-martial-arts-for-homeschoolers-west-coast-karate/2026-03-10/
LOCATION:West Coast Karate\, 23604 State Road 54\, Lutz\, FL\, 33559\, United States
CATEGORIES:Tampa Bay
ATTACH;FMTTYPE=image/jpeg:https://funhomeschoolflorida.com/wp-content/uploads/2026/03/qtq_95-2.jpeg
ORGANIZER;CN="West Coast Karate":MAILTO:westcoastkaratedojo@gmail.com
END:VEVENT
BEGIN:VEVENT
DTSTART;TZID=America/New_York:20260310T130000
DTEND;TZID=America/New_York:20260310T140000
DTSTAMP:20260420T102136
CREATED:20260304T121302Z
LAST-MODIFIED:20260418T210927Z
UID:10003241-1773147600-1773151200@funhomeschoolflorida.com
SUMMARY:[PALM HARBOR] Homeschool Dance
DESCRIPTION:Homeschool Dance. Ages 7-13 \nTuesday 1-2 pm \n55/monthly \nThe Centre \nFocus on polishing technique in ballet\, tap\, and jazz. Each class is a stepping stone in your journey of personal growth and creativity. It’s not just about dancing; it’s a wonderful chance for homeschoolers to forge lasting friendships and share joyful experiences. \nAttire: Keep long hair neatly tied back. Wear leotards\, tutus\, tights\, or your favorite comfortable exercise clothes. Don’t forget your ballet and tap shoes and bring a closed lid water bottle to stay refreshed and inspires. \nPlease register through their website\, link below.
URL:https://funhomeschoolflorida.com/event/palm-harbor-homeschool-dance/2026-03-10/
LOCATION:The Centre @ Palm Harbor Parks & Recreation\, 1500 16th Street\, Palm Harbor\, FL\, 34683\, United States
CATEGORIES:Tampa Bay
END:VEVENT
BEGIN:VEVENT
DTSTART;TZID=America/New_York:20260310T133000
DTEND;TZID=America/New_York:20260310T143000
DTSTAMP:20260420T102136
CREATED:20260112T184708Z
LAST-MODIFIED:20260415T032716Z
UID:10000876-1773149400-1773153000@funhomeschoolflorida.com
SUMMARY:SoFlo Ninja Academy - Home School Ninja class
DESCRIPTION:Home School Ninja \n(Ages 5-12) \nOur Home School Ninja class is specifically crafted for young enthusiasts aged 5 to 12\, providing a unique opportunity for home-schooled children to dive into the world of Soflo Ninja. This daytime class is not just about tackling obstacles; it’s a comprehensive physical education program designed to enhance endurance\, stability\, agility\, and more. Through a combination of structured ninja training and free play\, children learn to navigate challenging courses\, boosting their physical fitness and problem-solving skills. The environment is supportive and motivational\, making it ideal for building confidence and social skills among peers with similar interests. Join us to give your child a fun\, dynamic way to stay active and learn invaluable life skills that go beyond physical fitness. \n*Exceptions may be made for siblings. Please inquire. \n$35.00 \nPlease sign up on their website\, the link is below.
URL:https://funhomeschoolflorida.com/event/soflo-ninja-academy-home-school-ninja-class/2026-03-10/
LOCATION:SoFlo Ninja Academy\, 1751 W Copans Rd Suite 1 & 2\, Pompano Beach\, FL\, 33064\, United States
CATEGORIES:Broward County
ATTACH;FMTTYPE=image/webp:https://funhomeschoolflorida.com/wp-content/uploads/2026/01/SOFLO_Logo.webp
END:VEVENT
BEGIN:VEVENT
DTSTART;TZID=America/New_York:20260310T140000
DTEND;TZID=America/New_York:20260310T144500
DTSTAMP:20260420T102136
CREATED:20260304T122820Z
LAST-MODIFIED:20260418T210926Z
UID:10003267-1773151200-1773153900@funhomeschoolflorida.com
SUMMARY:[PALM HARBOR] Homeschool Musical Theater & Jazz
DESCRIPTION:Homeschool Musical Theater & Jazz \nAges 7-13 yrs \nTuesday 2-2:45 pm \n45/monthly \nA mix of modern jazz and classic theater steps will get our young dancers prepared for the stage! Practice in free movement\, improvisation and choreography while learning musical theater history. Learn dances for the latest pop songs as well as famous choreography from classic theater. \nAttire: Keep long hair neatly tied back. Wear leotards\, tutus\, tights\, or your favorite comfortable exercise clothes. Don’t forget your ballet and tap shoes and bring a closed lid water bottle to stay refreshed and inspired.
URL:https://funhomeschoolflorida.com/event/palm-harbor-homeschool-musical-theater-jazz/2026-03-10/
LOCATION:The Centre @ Palm Harbor Parks & Recreation\, 1500 16th Street\, Palm Harbor\, FL\, 34683\, United States
CATEGORIES:Tampa Bay
END:VEVENT
BEGIN:VEVENT
DTSTART;TZID=America/New_York:20260310T140000
DTEND;TZID=America/New_York:20260310T150000
DTSTAMP:20260420T102136
CREATED:20260112T181514Z
LAST-MODIFIED:20260415T032716Z
UID:10000234-1773151200-1773154800@funhomeschoolflorida.com
SUMMARY:Mission Parkour - Homeschool Parkour
DESCRIPTION:Homeschool Parkour class is a 30 min structured lesson by a certified coach followed by a 30 free time for the student to explore. The 1 hour class is taught and supervised so the student can learn the basic movements of Parkour. As they progress the student can take the fundamental movements and apply them to their individual needs and style gaining strength\, confidence and flexibility including their imagination. \n  \nHOMESCHOOL DROP-IN $20 \nThis homeschool class can only be taken one time. Membership required to continue. \nHOMESCHOOL $50 \nThe class includes 4 sessions for the month. Can be used one time per week. Makeup sessions must be done within the subscription month. \nHOMESCHOOL  $99 \nThe class includes 10 sessions per the month. Can be used twice per week. Makeup sessions must be done within the subscription month \n  \nClasses offered: \nMonday & Tuesday @ 2pm \nWednesday @ 1pm & 2pm \nThese classes repeat weekly unless otherwise noted. Please sign up on website\, link is below
URL:https://funhomeschoolflorida.com/event/mission-parkour-homeschool-parkour/2026-03-10/
LOCATION:Mission Parkour\, 4039 NE 10 Ave Oakland Park\, FL 33334\, Oakland Park\, FL\, 33334\, United States
CATEGORIES:Broward County
ATTACH;FMTTYPE=image/jpeg:https://funhomeschoolflorida.com/wp-content/uploads/2026/01/original.jpeg
END:VEVENT
BEGIN:VEVENT
DTSTART;TZID=America/New_York:20260310T141500
DTEND;TZID=America/New_York:20260310T151500
DTSTAMP:20260420T102136
CREATED:20260311T034654Z
LAST-MODIFIED:20260418T210925Z
UID:10003473-1773152100-1773155700@funhomeschoolflorida.com
SUMMARY:[Wesley Chapel] Homeschool Level 1 (co-ed Gymnastics) Suncoast Gymnastics Wesley Chapel
DESCRIPTION:Suncoast Gymnastics Wesley Chapel \nHomeschool Level 1 (co-ed Gymnastics) \nTue|2:15 PM – 3:15 PM \nSuncoast Gymnastics Wesley Chapel \n2441 Old Cypress Creek Rd \nLand O Lakes\, FL 34639
URL:https://funhomeschoolflorida.com/event/wesley-chapel-homeschool-level-1-co-ed-gymnastics-suncoast-gymnastics-wesley-chapel/2026-03-10/
LOCATION:Suncoast Gymnastics Wesley Chapel\, 2441 Old Cypress Creek Rd\, Land O Lakes\, FL\, 34639\, United States
CATEGORIES:Tampa Bay
ATTACH;FMTTYPE=image/png:https://funhomeschoolflorida.com/wp-content/uploads/2026/03/1692635624.f00edf02b723b7b23483d6ca116ab8a31251d1d9-1.png
END:VEVENT
END:VCALENDAR